BEGIN:VCALENDAR
VERSION:2.0
PRODID:-//PBC Poolsharks Ortenberg e.V. - ECPv6.15.17.1//NONSGML v1.0//EN
CALSCALE:GREGORIAN
METHOD:PUBLISH
X-ORIGINAL-URL:https://poolsharks-ortenberg.de
X-WR-CALDESC:Veranstaltungen für PBC Poolsharks Ortenberg e.V.
REFRESH-INTERVAL;VALUE=DURATION:PT1H
X-Robots-Tag:noindex
X-PUBLISHED-TTL:PT1H
BEGIN:VTIMEZONE
TZID:Europe/Berlin
BEGIN:DAYLIGHT
TZOFFSETFROM:+0100
TZOFFSETTO:+0200
TZNAME:CEST
DTSTART:20220327T010000
END:DAYLIGHT
BEGIN:STANDARD
TZOFFSETFROM:+0200
TZOFFSETTO:+0100
TZNAME:CET
DTSTART:20221030T010000
END:STANDARD
BEGIN:DAYLIGHT
TZOFFSETFROM:+0100
TZOFFSETTO:+0200
TZNAME:CEST
DTSTART:20230326T010000
END:DAYLIGHT
BEGIN:STANDARD
TZOFFSETFROM:+0200
TZOFFSETTO:+0100
TZNAME:CET
DTSTART:20231029T010000
END:STANDARD
BEGIN:DAYLIGHT
TZOFFSETFROM:+0100
TZOFFSETTO:+0200
TZNAME:CEST
DTSTART:20240331T010000
END:DAYLIGHT
BEGIN:STANDARD
TZOFFSETFROM:+0200
TZOFFSETTO:+0100
TZNAME:CET
DTSTART:20241027T010000
END:STANDARD
END:VTIMEZONE
BEGIN:VEVENT
DTSTART;TZID=Europe/Berlin:20231022T110000
DTEND;TZID=Europe/Berlin:20231022T190000
DTSTAMP:20260421T213723
CREATED:20230825T110721Z
LAST-MODIFIED:20230825T110721Z
UID:2758-1697972400-1698001200@poolsharks-ortenberg.de
SUMMARY:14.1 - LK-C - Herren (Wiesbaden)
DESCRIPTION:14.1 – LK-C – Herren (Wiesbaden)
URL:https://poolsharks-ortenberg.de/event/14-1-lk-c-herren-wiesbaden/
LOCATION:City-Billard Wiesbaden\, Dotzheimer Str. 27\, Wiesbaden\, Hessen\, 65185\, Germany
CATEGORIES:LK-C
ATTACH;FMTTYPE=image/png:https://poolsharks-ortenberg.de/wp-content/uploads/2022/09/HPBV_LK-C_14.1e_1280x640.png
ORGANIZER;CN="HPBV e.V.":MAILTO:info@hpbv.de
END:VEVENT
BEGIN:VEVENT
DTSTART;TZID=Europe/Berlin:20231022T110000
DTEND;TZID=Europe/Berlin:20231022T190000
DTSTAMP:20260421T213723
CREATED:20230825T110657Z
LAST-MODIFIED:20230825T110657Z
UID:2759-1697972400-1698001200@poolsharks-ortenberg.de
SUMMARY:14.1 - LK-C - Herren (Bad Wildungen)
DESCRIPTION:14.1 – LK-C – Herren (Bad Wildungen)
URL:https://poolsharks-ortenberg.de/event/14-1-lk-c-herren-bad-wildungen/
LOCATION:1. PBC Bad Wildungen Vereinsheim\, Zum Roten Berg 4\, Bad Wildungen\, Hessen\, 34537\, Deutschland
CATEGORIES:LK-C
ATTACH;FMTTYPE=image/png:https://poolsharks-ortenberg.de/wp-content/uploads/2022/09/HPBV_LK-C_14.1e_1280x640.png
ORGANIZER;CN="HPBV e.V.":MAILTO:info@hpbv.de
END:VEVENT
BEGIN:VEVENT
DTSTART;TZID=Europe/Berlin:20231021T160000
DTEND;TZID=Europe/Berlin:20231021T210000
DTSTAMP:20260421T213723
CREATED:20230804T132656Z
LAST-MODIFIED:20230928T222330Z
UID:2639-1697904000-1697922000@poolsharks-ortenberg.de
SUMMARY:PBC Pool Sharks Ortenberg 2 - SG Johannesberg 4
DESCRIPTION:Bezirksliga 2. Spt. – PBC Pool Sharks Ortenberg 2 – SG Johannesberg 4 \nAuf Anfrage von Johannesberg vom 30.09. verlegt auf 21.10.
URL:https://poolsharks-ortenberg.de/event/pbc-pool-sharks-ortenberg-2-sg-johannesberg-4/
LOCATION:Vereinsheim Poolsharks Ortenberg\, Neue Straße 2\, Ortenberg - Gelnhaar\, Hessen\, 63683\, Deutschland
CATEGORIES:Bezirksliga
ATTACH;FMTTYPE=image/png:https://poolsharks-ortenberg.de/wp-content/uploads/2022/09/HPBV_Bezirksliga_1280x640.png
ORGANIZER;CN="HPBV e.V.":MAILTO:info@hpbv.de
END:VEVENT
BEGIN:VEVENT
DTSTART;TZID=Europe/Berlin:20231021T110000
DTEND;TZID=Europe/Berlin:20231021T160000
DTSTAMP:20260421T213723
CREATED:20230820T201332Z
LAST-MODIFIED:20230820T201332Z
UID:2655-1697886000-1697904000@poolsharks-ortenberg.de
SUMMARY:BC Wiesbaden 2000 e.V. 1 - PBC Pool Sharks Ortenberg 1
DESCRIPTION:Oberliga 4. Spt. – BC Wiesbaden 2000 e.V. 1 – PBC Pool Sharks Ortenberg 1
URL:https://poolsharks-ortenberg.de/event/bc-wiesbaden-2000-e-v-1-pbc-pool-sharks-ortenberg-1/
LOCATION:City-Billard Wiesbaden\, Dotzheimer Str. 27\, Wiesbaden\, Hessen\, 65185\, Germany
CATEGORIES:Oberliga
ATTACH;FMTTYPE=image/png:https://poolsharks-ortenberg.de/wp-content/uploads/2022/09/HPBV_Oberliga_1280x640.png
ORGANIZER;CN="HPBV e.V.":MAILTO:info@hpbv.de
END:VEVENT
BEGIN:VEVENT
DTSTART;TZID=Europe/Berlin:20231014T160000
DTEND;TZID=Europe/Berlin:20231014T210000
DTSTAMP:20260421T213723
CREATED:20230820T195723Z
LAST-MODIFIED:20230820T195723Z
UID:2640-1697299200-1697317200@poolsharks-ortenberg.de
SUMMARY:PBC Pool Sharks Ortenberg 2 - 1. PBC Giessen 1986 e.V. 4
DESCRIPTION:Bezirksliga 3. Spt. – PBC Pool Sharks Ortenberg 2 – 1. PBC Giessen 1986 e.V. 4
URL:https://poolsharks-ortenberg.de/event/pbc-pool-sharks-ortenberg-2-1-pbc-giessen-1986-e-v-4/
LOCATION:Vereinsheim Poolsharks Ortenberg\, Neue Straße 2\, Ortenberg - Gelnhaar\, Hessen\, 63683\, Deutschland
CATEGORIES:Bezirksliga
ATTACH;FMTTYPE=image/png:https://poolsharks-ortenberg.de/wp-content/uploads/2022/09/HPBV_Bezirksliga_1280x640.png
ORGANIZER;CN="HPBV e.V.":MAILTO:info@hpbv.de
END:VEVENT
BEGIN:VEVENT
DTSTART;TZID=Europe/Berlin:20231014T110000
DTEND;TZID=Europe/Berlin:20231014T160000
DTSTAMP:20260421T213723
CREATED:20230820T201048Z
LAST-MODIFIED:20230820T201048Z
UID:2654-1697281200-1697299200@poolsharks-ortenberg.de
SUMMARY:PBC Pool Sharks Ortenberg 1 - Billardverein Kahl a. Main e.V. 1
DESCRIPTION:Oberliga 3. Spt. – PBC Pool Sharks Ortenberg 1 – Billardverein Kahl a. Main e.V. 1
URL:https://poolsharks-ortenberg.de/event/pbc-pool-sharks-ortenberg-1-billardverein-kahl-a-main-e-v-1/
LOCATION:Vereinsheim Poolsharks Ortenberg\, Neue Straße 2\, Ortenberg - Gelnhaar\, Hessen\, 63683\, Deutschland
CATEGORIES:Oberliga
ATTACH;FMTTYPE=image/png:https://poolsharks-ortenberg.de/wp-content/uploads/2022/09/HPBV_Oberliga_1280x640.png
ORGANIZER;CN="HPBV e.V.":MAILTO:info@hpbv.de
END:VEVENT
BEGIN:VEVENT
DTSTART;TZID=Europe/Berlin:20231007T110000
DTEND;TZID=Europe/Berlin:20231007T190000
DTSTAMP:20260421T213723
CREATED:20230825T110527Z
LAST-MODIFIED:20230825T110527Z
UID:2756-1696676400-1696705200@poolsharks-ortenberg.de
SUMMARY:1. Hessencup Jugend Pool
DESCRIPTION:1. Hessencup Jugend Pool
URL:https://poolsharks-ortenberg.de/event/1-hessencup-jugend-pool/
LOCATION:1. PBC Bad Wildungen Vereinsheim\, Zum Roten Berg 4\, Bad Wildungen\, Hessen\, 34537\, Deutschland
CATEGORIES:Hessencup
ORGANIZER;CN="HPBV e.V.":MAILTO:info@hpbv.de
END:VEVENT
BEGIN:VEVENT
DTSTART;TZID=Europe/Berlin:20231001T110000
DTEND;TZID=Europe/Berlin:20231001T190000
DTSTAMP:20260421T213723
CREATED:20230825T110842Z
LAST-MODIFIED:20230825T110842Z
UID:2751-1696158000-1696186800@poolsharks-ortenberg.de
SUMMARY:10-Ball - LK-C - Herren (Wiesbaden)
DESCRIPTION:10-Ball – LK-C – Herren (Wiesbaden)
URL:https://poolsharks-ortenberg.de/event/10-ball-lk-c-herren-wiesbaden/
LOCATION:City-Billard Wiesbaden\, Dotzheimer Str. 27\, Wiesbaden\, Hessen\, 65185\, Germany
CATEGORIES:LK-C
ATTACH;FMTTYPE=image/png:https://poolsharks-ortenberg.de/wp-content/uploads/2022/09/HPBV_LK-C_10-Ball_1280x640.png
ORGANIZER;CN="HPBV e.V.":MAILTO:info@hpbv.de
END:VEVENT
BEGIN:VEVENT
DTSTART;TZID=Europe/Berlin:20231001T110000
DTEND;TZID=Europe/Berlin:20231001T190000
DTSTAMP:20260421T213723
CREATED:20230825T110324Z
LAST-MODIFIED:20230825T110324Z
UID:2755-1696158000-1696186800@poolsharks-ortenberg.de
SUMMARY:10-Ball - LK-C - Senioren
DESCRIPTION:10-Ball – LK-C – Senioren
URL:https://poolsharks-ortenberg.de/event/10-ball-lk-c-senioren-2/
LOCATION:PBV Limburg Vereinsheim\, Gymnasiumstraße 11\, Hadamar\, Hessen\, 65589\, Deutschland
CATEGORIES:LK-C
ATTACH;FMTTYPE=image/png:https://poolsharks-ortenberg.de/wp-content/uploads/2022/09/HPBV_LK-C_10-Ball_1280x640.png
ORGANIZER;CN="HPBV e.V.":MAILTO:info@hpbv.de
END:VEVENT
BEGIN:VEVENT
DTSTART;TZID=Europe/Berlin:20231001T110000
DTEND;TZID=Europe/Berlin:20231001T190000
DTSTAMP:20260421T213723
CREATED:20230825T110233Z
LAST-MODIFIED:20230825T110233Z
UID:2752-1696158000-1696186800@poolsharks-ortenberg.de
SUMMARY:10-Ball - LK-C - Herren (Gießen)
DESCRIPTION:10-Ball – LK-C – Herren (Gießen)
URL:https://poolsharks-ortenberg.de/event/10-ball-lk-c-herren-giessen/
LOCATION:Straight Pool Gießen\, Grünberger Straße 140\, Gießen\, Hessen\, 35394\, Deutschland
CATEGORIES:LK-C
ATTACH;FMTTYPE=image/png:https://poolsharks-ortenberg.de/wp-content/uploads/2022/09/HPBV_LK-C_10-Ball_1280x640.png
ORGANIZER;CN="HPBV e.V.":MAILTO:info@hpbv.de
END:VEVENT
BEGIN:VEVENT
DTSTART;TZID=Europe/Berlin:20231001T110000
DTEND;TZID=Europe/Berlin:20231001T190000
DTSTAMP:20260421T213723
CREATED:20230825T110207Z
LAST-MODIFIED:20230825T110207Z
UID:2753-1696158000-1696186800@poolsharks-ortenberg.de
SUMMARY:10-Ball - LK-C - Herren (Eberstadt)
DESCRIPTION:10-Ball – LK-C – Herren (Eberstadt)
URL:https://poolsharks-ortenberg.de/event/10-ball-lk-c-herren-eberstadt/
LOCATION:Billard Pallace Dieburg\, Markt 22\, Eberstadt\, Hessen\, 64807\, Deutschland
CATEGORIES:LK-C
ATTACH;FMTTYPE=image/png:https://poolsharks-ortenberg.de/wp-content/uploads/2022/09/HPBV_LK-C_10-Ball_1280x640.png
ORGANIZER;CN="HPBV e.V.":MAILTO:info@hpbv.de
END:VEVENT
BEGIN:VEVENT
DTSTART;TZID=Europe/Berlin:20231001T110000
DTEND;TZID=Europe/Berlin:20231001T190000
DTSTAMP:20260421T213723
CREATED:20230825T110132Z
LAST-MODIFIED:20230825T110132Z
UID:2754-1696158000-1696186800@poolsharks-ortenberg.de
SUMMARY:10-Ball - LK-C - Herren (Kahl)
DESCRIPTION:10-Ball – LK-C – Herren (Kahl)
URL:https://poolsharks-ortenberg.de/event/10-ball-lk-c-herren-kahl/
LOCATION:BV Kahl Vereinsheim\, Hanauerlandstraße 105\, Kahl a. Main\, Hessen\, 63796\, Germany
CATEGORIES:LK-C
ATTACH;FMTTYPE=image/png:https://poolsharks-ortenberg.de/wp-content/uploads/2022/09/HPBV_LK-C_10-Ball_1280x640.png
ORGANIZER;CN="HPBV e.V.":MAILTO:info@hpbv.de
END:VEVENT
BEGIN:VEVENT
DTSTART;TZID=Europe/Berlin:20230930T110000
DTEND;TZID=Europe/Berlin:20230930T160000
DTSTAMP:20260421T213723
CREATED:20230804T132545Z
LAST-MODIFIED:20230804T132546Z
UID:2653-1696071600-1696089600@poolsharks-ortenberg.de
SUMMARY:PBC Pool Sharks Ortenberg 1 - PBC Dreieich-Sprendlingen 1
DESCRIPTION:Oberliga 2. Spt. – PBC Pool Sharks Ortenberg 1 – PBC Dreieich-Sprendlingen 1
URL:https://poolsharks-ortenberg.de/event/pbc-pool-sharks-ortenberg-1-pbc-dreieich-sprendlingen-1/
LOCATION:Vereinsheim Poolsharks Ortenberg\, Neue Straße 2\, Ortenberg - Gelnhaar\, Hessen\, 63683\, Deutschland
CATEGORIES:Oberliga
ATTACH;FMTTYPE=image/png:https://poolsharks-ortenberg.de/wp-content/uploads/2022/09/HPBV_Oberliga_1280x640.png
ORGANIZER;CN="HPBV e.V.":MAILTO:info@hpbv.de
END:VEVENT
BEGIN:VEVENT
DTSTART;TZID=Europe/Berlin:20230923T110000
DTEND;TZID=Europe/Berlin:20230923T160000
DTSTAMP:20260421T213723
CREATED:20230804T132344Z
LAST-MODIFIED:20230915T195256Z
UID:2652-1695466800-1695484800@poolsharks-ortenberg.de
SUMMARY:BV Mörfelden-Walldorf 2 - PBC Pool Sharks Ortenberg 1
DESCRIPTION:Oberliga 1. Spt. – BV Mörfelden-Walldorf 2 – PBC Pool Sharks Ortenberg 1 \nVerschoben auf Antrag BV Mörfelden-Walldorf 2
URL:https://poolsharks-ortenberg.de/event/bv-moerfelden-walldorf-2-pbc-pool-sharks-ortenberg-1-2/
LOCATION:Vereinsheim Poolsharks Ortenberg\, Neue Straße 2\, Ortenberg - Gelnhaar\, Hessen\, 63683\, Deutschland
CATEGORIES:Oberliga
ATTACH;FMTTYPE=image/png:https://poolsharks-ortenberg.de/wp-content/uploads/2022/09/HPBV_Oberliga_1280x640.png
ORGANIZER;CN="HPBV e.V.":MAILTO:info@hpbv.de
END:VEVENT
BEGIN:VEVENT
DTSTART;TZID=Europe/Berlin:20230916T160000
DTEND;TZID=Europe/Berlin:20230916T210000
DTSTAMP:20260421T213723
CREATED:20230804T131733Z
LAST-MODIFIED:20230804T131733Z
UID:2638-1694880000-1694898000@poolsharks-ortenberg.de
SUMMARY:Pool Devils Neu Anspach 2 - PBC Pool Sharks Ortenberg 2
DESCRIPTION:Bezirksliga 1. Spt. – Pool Devils Neu Anspach 2 – PBC Pool Sharks Ortenberg 2
URL:https://poolsharks-ortenberg.de/event/pool-devils-neu-anspach-2-pbc-pool-sharks-ortenberg-2/
LOCATION:Pool Devils Vereinsheim\, Am Rathaus 1\, Wehrheim\, Hessen\, 61273\, Deutschland
CATEGORIES:Bezirksliga
ATTACH;FMTTYPE=image/png:https://poolsharks-ortenberg.de/wp-content/uploads/2022/09/HPBV_Bezirksliga_1280x640.png
ORGANIZER;CN="HPBV e.V.":MAILTO:info@hpbv.de
END:VEVENT
BEGIN:VEVENT
DTSTART;TZID=Europe/Berlin:20230910T110000
DTEND;TZID=Europe/Berlin:20230910T190000
DTSTAMP:20260421T213723
CREATED:20230825T105946Z
LAST-MODIFIED:20230825T105946Z
UID:2750-1694343600-1694372400@poolsharks-ortenberg.de
SUMMARY:9-Ball - LK-C - Senioren
DESCRIPTION:9-Ball – LK-C – Senioren
URL:https://poolsharks-ortenberg.de/event/9-ball-lk-c-senioren-2/
LOCATION:Billard Pallace Dieburg\, Markt 22\, Eberstadt\, Hessen\, 64807\, Deutschland
CATEGORIES:LK-C
ATTACH;FMTTYPE=image/png:https://poolsharks-ortenberg.de/wp-content/uploads/2022/09/HPBV_LK-C_9-Ball_1280x640.png
ORGANIZER;CN="HPBV e.V.":MAILTO:info@hpbv.de
END:VEVENT
BEGIN:VEVENT
DTSTART;TZID=Europe/Berlin:20230910T110000
DTEND;TZID=Europe/Berlin:20230910T190000
DTSTAMP:20260421T213723
CREATED:20230825T105853Z
LAST-MODIFIED:20230825T105853Z
UID:2748-1694343600-1694372400@poolsharks-ortenberg.de
SUMMARY:9-Ball - LK-C - Herren (Dreieich)
DESCRIPTION:9-Ball – LK-C – Herren (Dreieich)
URL:https://poolsharks-ortenberg.de/event/9-ball-lk-c-herren-dreieich/
LOCATION:PBC Dreieich-Sprendlingen Vereinsheim\, Eisenbahnstraße 102\, Dreieich-Sprendlingen\, Hessen\, 63303\, Germany
CATEGORIES:LK-C
ATTACH;FMTTYPE=image/png:https://poolsharks-ortenberg.de/wp-content/uploads/2022/09/HPBV_LK-C_9-Ball_1280x640.png
ORGANIZER;CN="HPBV e.V.":MAILTO:info@hpbv.de
END:VEVENT
BEGIN:VEVENT
DTSTART;TZID=Europe/Berlin:20230910T110000
DTEND;TZID=Europe/Berlin:20230910T190000
DTSTAMP:20260421T213723
CREATED:20230825T105803Z
LAST-MODIFIED:20230825T105803Z
UID:2747-1694343600-1694372400@poolsharks-ortenberg.de
SUMMARY:9-Ball - LK-C - Herren (Bad Wildungen)
DESCRIPTION:9-Ball – LK-C – Herren (Bad Wildungen)
URL:https://poolsharks-ortenberg.de/event/9-ball-lk-c-herren-bad-wildungen/
LOCATION:1. PBC Bad Wildungen Vereinsheim\, Zum Roten Berg 4\, Bad Wildungen\, Hessen\, 34537\, Deutschland
CATEGORIES:LK-C
ATTACH;FMTTYPE=image/png:https://poolsharks-ortenberg.de/wp-content/uploads/2022/09/HPBV_LK-C_9-Ball_1280x640.png
ORGANIZER;CN="HPBV e.V.":MAILTO:info@hpbv.de
END:VEVENT
BEGIN:VEVENT
DTSTART;TZID=Europe/Berlin:20230910T110000
DTEND;TZID=Europe/Berlin:20230910T190000
DTSTAMP:20260421T213723
CREATED:20230825T105735Z
LAST-MODIFIED:20230825T105735Z
UID:2749-1694343600-1694372400@poolsharks-ortenberg.de
SUMMARY:9-Ball - LK-C - Herren (Kahl)
DESCRIPTION:9-Ball – LK-C – Herren (Kahl)
URL:https://poolsharks-ortenberg.de/event/9-ball-lk-c-herren-kahl-2/
LOCATION:BV Kahl Vereinsheim\, Hanauerlandstraße 105\, Kahl a. Main\, Hessen\, 63796\, Germany
CATEGORIES:LK-C
ATTACH;FMTTYPE=image/png:https://poolsharks-ortenberg.de/wp-content/uploads/2022/09/HPBV_LK-C_9-Ball_1280x640.png
ORGANIZER;CN="HPBV e.V.":MAILTO:info@hpbv.de
END:VEVENT
BEGIN:VEVENT
DTSTART;TZID=Europe/Berlin:20230910T110000
DTEND;TZID=Europe/Berlin:20230910T190000
DTSTAMP:20260421T213723
CREATED:20230825T105442Z
LAST-MODIFIED:20230825T105442Z
UID:2746-1694343600-1694372400@poolsharks-ortenberg.de
SUMMARY:9-Ball - LK-C - Herren (Schierstein)
DESCRIPTION:9-Ball – LK-C – Herren (Schierstein)
URL:https://poolsharks-ortenberg.de/event/9-ball-lk-c-herren-schierstein/
LOCATION:BV Schierstein Vereinsheim\, Wiesbadener Landstraße 16\, Wiesbaden-Amöneburg\, Hessen\, 65203\, Deutschland
CATEGORIES:LK-C
ATTACH;FMTTYPE=image/png:https://poolsharks-ortenberg.de/wp-content/uploads/2022/09/HPBV_LK-C_9-Ball_1280x640.png
ORGANIZER;CN="HPBV e.V.":MAILTO:info@hpbv.de
END:VEVENT
BEGIN:VEVENT
DTSTART;TZID=Europe/Berlin:20230909T110000
DTEND;TZID=Europe/Berlin:20230909T190000
DTSTAMP:20260421T213723
CREATED:20230825T105330Z
LAST-MODIFIED:20230825T105330Z
UID:2745-1694257200-1694286000@poolsharks-ortenberg.de
SUMMARY:Hessenmeisterschaft Pokal Mannschaft Pool
DESCRIPTION:Hessenmeisterschaft Pokal Mannschaft Pool
URL:https://poolsharks-ortenberg.de/event/hessenmeisterschaft-pokal-mannschaft-pool/
LOCATION:BV Mörfelden-Walldorf Vereinsheim\, Am Berg 36\, Mörfelden-Walldorf\, Hessen\, 64546\, Deutschland
CATEGORIES:Pokal Mannschaft
ORGANIZER;CN="HPBV e.V.":MAILTO:info@hpbv.de
END:VEVENT
BEGIN:VEVENT
DTSTART;TZID=Europe/Berlin:20230903T110000
DTEND;TZID=Europe/Berlin:20230903T190000
DTSTAMP:20260421T213723
CREATED:20230825T105130Z
LAST-MODIFIED:20230825T105130Z
UID:2744-1693738800-1693767600@poolsharks-ortenberg.de
SUMMARY:8-Ball - LK-C - Senioren
DESCRIPTION:8-Ball – LK-C – Senioren
URL:https://poolsharks-ortenberg.de/event/8-ball-lk-c-senioren-2/
LOCATION:BV Schierstein Vereinsheim\, Wiesbadener Landstraße 16\, Wiesbaden-Amöneburg\, Hessen\, 65203\, Deutschland
CATEGORIES:LK-C
ATTACH;FMTTYPE=image/png:https://poolsharks-ortenberg.de/wp-content/uploads/2022/09/HPBV_LK-C_8-Ball_1280x640.png
ORGANIZER;CN="HPBV e.V.":MAILTO:info@hpbv.de
END:VEVENT
BEGIN:VEVENT
DTSTART;TZID=Europe/Berlin:20230903T110000
DTEND;TZID=Europe/Berlin:20230903T190000
DTSTAMP:20260421T213723
CREATED:20230825T105015Z
LAST-MODIFIED:20230825T105015Z
UID:2742-1693738800-1693767600@poolsharks-ortenberg.de
SUMMARY:8-Ball - LK-C - Herren (Gießen)
DESCRIPTION:8-Ball – LK-C – Herren (Gießen)
URL:https://poolsharks-ortenberg.de/event/8-ball-lk-c-herren-giessen/
LOCATION:Straight Pool Gießen\, Grünberger Straße 140\, Gießen\, Hessen\, 35394\, Deutschland
CATEGORIES:LK-C
ATTACH;FMTTYPE=image/png:https://poolsharks-ortenberg.de/wp-content/uploads/2022/09/HPBV_LK-C_8-Ball_1280x640.png
ORGANIZER;CN="HPBV e.V.":MAILTO:info@hpbv.de
END:VEVENT
BEGIN:VEVENT
DTSTART;TZID=Europe/Berlin:20230903T110000
DTEND;TZID=Europe/Berlin:20230903T190000
DTSTAMP:20260421T213723
CREATED:20230825T104906Z
LAST-MODIFIED:20230825T104906Z
UID:2743-1693738800-1693767600@poolsharks-ortenberg.de
SUMMARY:8-Ball - LK-C - Herren (Kahl)
DESCRIPTION:8-Ball – LK-C – Herren (Kahl)
URL:https://poolsharks-ortenberg.de/event/8-ball-lk-c-herren-kahl/
LOCATION:BV Kahl Vereinsheim\, Hanauerlandstraße 105\, Kahl a. Main\, Hessen\, 63796\, Germany
CATEGORIES:LK-C
ATTACH;FMTTYPE=image/png:https://poolsharks-ortenberg.de/wp-content/uploads/2022/09/HPBV_LK-C_8-Ball_1280x640.png
ORGANIZER;CN="HPBV e.V.":MAILTO:info@hpbv.de
END:VEVENT
BEGIN:VEVENT
DTSTART;TZID=Europe/Berlin:20230903T110000
DTEND;TZID=Europe/Berlin:20230903T190000
DTSTAMP:20260421T213723
CREATED:20230825T100044Z
LAST-MODIFIED:20230825T100044Z
UID:2736-1693738800-1693767600@poolsharks-ortenberg.de
SUMMARY:8-Ball - LK-C - Herren (Wiesbaden)
DESCRIPTION:8-Ball – LK-C – Herren (Wiesbaden)
URL:https://poolsharks-ortenberg.de/event/8-ball-lk-c-herren-wiesbaden/
LOCATION:City-Billard Wiesbaden\, Dotzheimer Str. 27\, Wiesbaden\, Hessen\, 65185\, Germany
CATEGORIES:LK-C
ATTACH;FMTTYPE=image/png:https://poolsharks-ortenberg.de/wp-content/uploads/2022/09/HPBV_LK-C_8-Ball_1280x640.png
ORGANIZER;CN="HPBV e.V.":MAILTO:info@hpbv.de
END:VEVENT
BEGIN:VEVENT
DTSTART;TZID=Europe/Berlin:20230903T110000
DTEND;TZID=Europe/Berlin:20230903T190000
DTSTAMP:20260421T213723
CREATED:20230825T093456Z
LAST-MODIFIED:20230825T095837Z
UID:2728-1693738800-1693767600@poolsharks-ortenberg.de
SUMMARY:8-Ball - LK-C - Herren (Eberstadt)
DESCRIPTION:8-Ball – LK-C – Herren (Eberstadt)
URL:https://poolsharks-ortenberg.de/event/8-ball-lk-c-herren-eberstadt/
LOCATION:Billard Pallace Dieburg\, Markt 22\, Eberstadt\, Hessen\, 64807\, Deutschland
CATEGORIES:LK-C
ATTACH;FMTTYPE=image/png:https://poolsharks-ortenberg.de/wp-content/uploads/2022/09/HPBV_LK-C_8-Ball_1280x640.png
ORGANIZER;CN="HPBV e.V.":MAILTO:info@hpbv.de
END:VEVENT
BEGIN:VEVENT
DTSTART;TZID=Europe/Berlin:20230617T160000
DTEND;TZID=Europe/Berlin:20230617T210000
DTSTAMP:20260421T213723
CREATED:20220822T230938Z
LAST-MODIFIED:20220904T064005Z
UID:1616-1687017600-1687035600@poolsharks-ortenberg.de
SUMMARY:BV Kahl a. Main 3 - PBC Pool Sharks Ortenberg 2
DESCRIPTION:Landesliga 1 – 18. Spieltag – BV Kahl a. Main 3 gegen PBC Pool Sharks Ortenberg 2
URL:https://poolsharks-ortenberg.de/event/bv-kahl-a-main-3-pbc-pool-sharks-ortenberg-2/
LOCATION:BV Kahl Vereinsheim\, Hanauerlandstraße 105\, Kahl a. Main\, Hessen\, 63796\, Germany
CATEGORIES:Landesliga
ATTACH;FMTTYPE=image/png:https://poolsharks-ortenberg.de/wp-content/uploads/2022/08/HPBV_Landesliga_1280x640.png
ORGANIZER;CN="HPBV e.V.":MAILTO:info@hpbv.de
END:VEVENT
BEGIN:VEVENT
DTSTART;TZID=Europe/Berlin:20230617T160000
DTEND;TZID=Europe/Berlin:20230617T210000
DTSTAMP:20260421T213723
CREATED:20220822T230938Z
LAST-MODIFIED:20220904T064135Z
UID:1630-1687017600-1687035600@poolsharks-ortenberg.de
SUMMARY:Pool Devils Neu Anspach 2 - PBC Pool Sharks Ortenberg 3
DESCRIPTION:Bezirksliga 1 – 18. Spieltag – Pool Devils Neu Anspach 2 gegen PBC Pool Sharks Ortenberg 3
URL:https://poolsharks-ortenberg.de/event/pool-devils-neu-anspach-2-pbc-pool-sharks-ortenberg-3/
LOCATION:Pool Devils Vereinsheim\, Am Rathaus 1\, Wehrheim\, Hessen\, 61273\, Deutschland
CATEGORIES:Bezirksliga
ATTACH;FMTTYPE=image/png:https://poolsharks-ortenberg.de/wp-content/uploads/2022/09/HPBV_Bezirksliga_1280x640.png
ORGANIZER;CN="HPBV e.V.":MAILTO:info@hpbv.de
END:VEVENT
BEGIN:VEVENT
DTSTART;TZID=Europe/Berlin:20230617T160000
DTEND;TZID=Europe/Berlin:20230617T210000
DTSTAMP:20260421T213723
CREATED:20220822T230555Z
LAST-MODIFIED:20220907T074435Z
UID:1640-1687017600-1687035600@poolsharks-ortenberg.de
SUMMARY:PBC Pool Sharks Ortenberg 4 - SG Johannesberg 7
DESCRIPTION:Kreisliga 2 – 18. Spieltag – PBC Pool Sharks Ortenberg 4 gegen SG Johannesberg 7
URL:https://poolsharks-ortenberg.de/event/pbc-pool-sharks-ortenberg-4-sg-johannesberg-7/
LOCATION:Vereinsheim Poolsharks Ortenberg\, Neue Straße 2\, Ortenberg - Gelnhaar\, Hessen\, 63683\, Deutschland
CATEGORIES:Kreisliga
ATTACH;FMTTYPE=image/png:https://poolsharks-ortenberg.de/wp-content/uploads/2022/09/HPBV_Kreisliga_1280x640.png
ORGANIZER;CN="HPBV e.V.":MAILTO:info@hpbv.de
END:VEVENT
BEGIN:VEVENT
DTSTART;TZID=Europe/Berlin:20230617T110000
DTEND;TZID=Europe/Berlin:20230617T160000
DTSTAMP:20260421T213723
CREATED:20220822T230938Z
LAST-MODIFIED:20220907T074510Z
UID:1602-1686999600-1687017600@poolsharks-ortenberg.de
SUMMARY:PBC Pool Sharks Ortenberg 1 - Billard Bianco Dieburg 1
DESCRIPTION:Oberliga – 18. Spieltag – PBC Pool Sharks Ortenberg 1 gegen Billard Bianco Dieburg 1
URL:https://poolsharks-ortenberg.de/event/pbc-pool-sharks-ortenberg-1-billard-bianco-dieburg-1/
LOCATION:Vereinsheim Poolsharks Ortenberg\, Neue Straße 2\, Ortenberg - Gelnhaar\, Hessen\, 63683\, Deutschland
CATEGORIES:Oberliga
ATTACH;FMTTYPE=image/png:https://poolsharks-ortenberg.de/wp-content/uploads/2022/09/HPBV_Oberliga_1280x640.png
ORGANIZER;CN="HPBV e.V.":MAILTO:info@hpbv.de
END:VEVENT
END:VCALENDAR