BEGIN:VCALENDAR
VERSION:2.0
PRODID:-//PBC Poolsharks Ortenberg e.V. - ECPv6.15.17.1//NONSGML v1.0//EN
CALSCALE:GREGORIAN
METHOD:PUBLISH
X-ORIGINAL-URL:https://poolsharks-ortenberg.de
X-WR-CALDESC:Veranstaltungen für PBC Poolsharks Ortenberg e.V.
REFRESH-INTERVAL;VALUE=DURATION:PT1H
X-Robots-Tag:noindex
X-PUBLISHED-TTL:PT1H
BEGIN:VTIMEZONE
TZID:Europe/Berlin
BEGIN:DAYLIGHT
TZOFFSETFROM:+0100
TZOFFSETTO:+0200
TZNAME:CEST
DTSTART:20210328T010000
END:DAYLIGHT
BEGIN:STANDARD
TZOFFSETFROM:+0200
TZOFFSETTO:+0100
TZNAME:CET
DTSTART:20211031T010000
END:STANDARD
BEGIN:DAYLIGHT
TZOFFSETFROM:+0100
TZOFFSETTO:+0200
TZNAME:CEST
DTSTART:20220327T010000
END:DAYLIGHT
BEGIN:STANDARD
TZOFFSETFROM:+0200
TZOFFSETTO:+0100
TZNAME:CET
DTSTART:20221030T010000
END:STANDARD
BEGIN:DAYLIGHT
TZOFFSETFROM:+0100
TZOFFSETTO:+0200
TZNAME:CEST
DTSTART:20230326T010000
END:DAYLIGHT
BEGIN:STANDARD
TZOFFSETFROM:+0200
TZOFFSETTO:+0100
TZNAME:CET
DTSTART:20231029T010000
END:STANDARD
BEGIN:DAYLIGHT
TZOFFSETFROM:+0100
TZOFFSETTO:+0200
TZNAME:CEST
DTSTART:20240331T010000
END:DAYLIGHT
BEGIN:STANDARD
TZOFFSETFROM:+0200
TZOFFSETTO:+0100
TZNAME:CET
DTSTART:20241027T010000
END:STANDARD
END:VTIMEZONE
BEGIN:VEVENT
DTSTART;TZID=Europe/Berlin:20230122T110000
DTEND;TZID=Europe/Berlin:20230122T170000
DTSTAMP:20260422T054715
CREATED:20220830T100402Z
LAST-MODIFIED:20220914T171754Z
UID:1944-1674385200-1674406800@poolsharks-ortenberg.de
SUMMARY:9-Ball - LK-B - Herren (Mörfelden)
DESCRIPTION:9-Ball – LK-B – Herren (Mörfelden)
URL:https://poolsharks-ortenberg.de/event/9-ball-lk-b-herren-moerfelden/
LOCATION:BV Mörfelden-Walldorf Vereinsheim\, Am Berg 36\, Mörfelden-Walldorf\, Hessen\, 64546\, Deutschland
CATEGORIES:LK-B
ATTACH;FMTTYPE=image/png:https://poolsharks-ortenberg.de/wp-content/uploads/2022/09/HPBV_LK-B_9-Ball_1280x640.png
ORGANIZER;CN="HPBV e.V.":MAILTO:info@hpbv.de
END:VEVENT
BEGIN:VEVENT
DTSTART;TZID=Europe/Berlin:20230122T110000
DTEND;TZID=Europe/Berlin:20230122T170000
DTSTAMP:20260422T054715
CREATED:20220826T132304Z
LAST-MODIFIED:20220914T172152Z
UID:1811-1674385200-1674406800@poolsharks-ortenberg.de
SUMMARY:9-Ball - LK-B - Herren (Gießen)
DESCRIPTION:9-Ball – LK-B – Herren (Gießen)
URL:https://poolsharks-ortenberg.de/event/9-ball-lk-b-herren/
LOCATION:Straight Pool Gießen\, Grünberger Straße 140\, Gießen\, Hessen\, 35394\, Deutschland
CATEGORIES:LK-B
ATTACH;FMTTYPE=image/png:https://poolsharks-ortenberg.de/wp-content/uploads/2022/09/HPBV_LK-B_9-Ball_1280x640.png
ORGANIZER;CN="HPBV e.V.":MAILTO:info@hpbv.de
END:VEVENT
BEGIN:VEVENT
DTSTART;TZID=Europe/Berlin:20230122T110000
DTEND;TZID=Europe/Berlin:20230122T170000
DTSTAMP:20260422T054715
CREATED:20220826T132303Z
LAST-MODIFIED:20220914T172235Z
UID:1810-1674385200-1674406800@poolsharks-ortenberg.de
SUMMARY:9-Ball - LK-B - Senioren
DESCRIPTION:9-Ball – LK-B – Senioren
URL:https://poolsharks-ortenberg.de/event/9-ball-lk-b-senioren/
LOCATION:BV Kahl Vereinsheim\, Hanauerlandstraße 105\, Kahl a. Main\, Hessen\, 63796\, Germany
CATEGORIES:LK-B
ATTACH;FMTTYPE=image/png:https://poolsharks-ortenberg.de/wp-content/uploads/2022/09/HPBV_LK-B_9-Ball_1280x640.png
ORGANIZER;CN="HPBV e.V.":MAILTO:info@hpbv.de
END:VEVENT
BEGIN:VEVENT
DTSTART;TZID=Europe/Berlin:20230121T160000
DTEND;TZID=Europe/Berlin:20230121T210000
DTSTAMP:20260422T054715
CREATED:20220822T231048Z
LAST-MODIFIED:20220906T091757Z
UID:1610-1674316800-1674334800@poolsharks-ortenberg.de
SUMMARY:PBC Pool Sharks Ortenberg 2 - 1. PBC Idstein 1
DESCRIPTION:Landesliga 1 – 10. Spieltag – PBC Pool Sharks Ortenberg 2 gegen 1. PBC Idstein 1
URL:https://poolsharks-ortenberg.de/event/pbc-pool-sharks-ortenberg-2-1-pbc-idstein-1/
LOCATION:Vereinsheim Poolsharks Ortenberg\, Neue Straße 2\, Ortenberg - Gelnhaar\, Hessen\, 63683\, Deutschland
CATEGORIES:Landesliga
ATTACH;FMTTYPE=image/png:https://poolsharks-ortenberg.de/wp-content/uploads/2022/08/HPBV_Landesliga_1280x640.png
ORGANIZER;CN="HPBV e.V.":MAILTO:info@hpbv.de
END:VEVENT
BEGIN:VEVENT
DTSTART;TZID=Europe/Berlin:20230121T160000
DTEND;TZID=Europe/Berlin:20230121T210000
DTSTAMP:20260422T054715
CREATED:20220822T231048Z
LAST-MODIFIED:20220906T091851Z
UID:1624-1674316800-1674334800@poolsharks-ortenberg.de
SUMMARY:PBC Pool Sharks Ortenberg 3 - PDV Marburg 2
DESCRIPTION:Bezirksliga 1 – 10. Spieltag – PBC Pool Sharks Ortenberg 3 gegen PDV Marburg 2
URL:https://poolsharks-ortenberg.de/event/pbc-pool-sharks-ortenberg-3-pdv-marburg-2/
LOCATION:Vereinsheim Poolsharks Ortenberg\, Neue Straße 2\, Ortenberg - Gelnhaar\, Hessen\, 63683\, Deutschland
CATEGORIES:Bezirksliga
ATTACH;FMTTYPE=image/png:https://poolsharks-ortenberg.de/wp-content/uploads/2022/09/HPBV_Bezirksliga_1280x640.png
ORGANIZER;CN="HPBV e.V.":MAILTO:info@hpbv.de
END:VEVENT
BEGIN:VEVENT
DTSTART;TZID=Europe/Berlin:20230121T160000
DTEND;TZID=Europe/Berlin:20230121T210000
DTSTAMP:20260422T054715
CREATED:20220822T231047Z
LAST-MODIFIED:20220906T091729Z
UID:1636-1674316800-1674334800@poolsharks-ortenberg.de
SUMMARY:PBC Pool Sharks Ortenberg 4 - PBC Gelnhausen 3
DESCRIPTION:Kreisliga 2 – 10. Spieltag – PBC Pool Sharks Ortenberg 4 gegen PBC Gelnhausen 3
URL:https://poolsharks-ortenberg.de/event/pbc-pool-sharks-ortenberg-4-pbc-gelnhausen-3/
LOCATION:Vereinsheim Poolsharks Ortenberg\, Neue Straße 2\, Ortenberg - Gelnhaar\, Hessen\, 63683\, Deutschland
CATEGORIES:Kreisliga
ATTACH;FMTTYPE=image/png:https://poolsharks-ortenberg.de/wp-content/uploads/2022/09/HPBV_Kreisliga_1280x640.png
ORGANIZER;CN="HPBV e.V.":MAILTO:info@hpbv.de
END:VEVENT
BEGIN:VEVENT
DTSTART;TZID=Europe/Berlin:20230121T110000
DTEND;TZID=Europe/Berlin:20230121T160000
DTSTAMP:20260422T054715
CREATED:20220822T231048Z
LAST-MODIFIED:20220906T091706Z
UID:1594-1674298800-1674316800@poolsharks-ortenberg.de
SUMMARY:PBC Pool Sharks Ortenberg 1 - BV Mörfelden-Walldorf 2
DESCRIPTION:Oberliga – 10. Spieltag – PBC Pool Sharks Ortenberg 1 gegen BV MörfeldengegenWalldorf 2
URL:https://poolsharks-ortenberg.de/event/pbc-pool-sharks-ortenberg-1-bv-moerfelden-walldorf-2/
LOCATION:Vereinsheim Poolsharks Ortenberg\, Neue Straße 2\, Ortenberg - Gelnhaar\, Hessen\, 63683\, Deutschland
CATEGORIES:Oberliga
ATTACH;FMTTYPE=image/png:https://poolsharks-ortenberg.de/wp-content/uploads/2022/09/HPBV_Oberliga_1280x640.png
ORGANIZER;CN="HPBV e.V.":MAILTO:info@hpbv.de
END:VEVENT
BEGIN:VEVENT
DTSTART;TZID=Europe/Berlin:20230108T110000
DTEND;TZID=Europe/Berlin:20230108T170000
DTSTAMP:20260422T054715
CREATED:20220830T100402Z
LAST-MODIFIED:20220906T091633Z
UID:1943-1673175600-1673197200@poolsharks-ortenberg.de
SUMMARY:8-Ball - LK-B - Herren (Eberstadt)
DESCRIPTION:8-Ball – LK-B – Herren (Eberstadt)
URL:https://poolsharks-ortenberg.de/event/8-ball-lk-b-herren-eberstadt/
LOCATION:Billard Pallace Dieburg\, Markt 22\, Eberstadt\, Hessen\, 64807\, Deutschland
CATEGORIES:LK-B
ATTACH;FMTTYPE=image/png:https://poolsharks-ortenberg.de/wp-content/uploads/2022/09/HPBV_LK-B_8-Ball_1280x640.png
ORGANIZER;CN="HPBV e.V.":MAILTO:info@hpbv.de
END:VEVENT
BEGIN:VEVENT
DTSTART;TZID=Europe/Berlin:20230108T110000
DTEND;TZID=Europe/Berlin:20230108T170000
DTSTAMP:20260422T054715
CREATED:20220826T132303Z
LAST-MODIFIED:20220906T091612Z
UID:1808-1673175600-1673197200@poolsharks-ortenberg.de
SUMMARY:8-Ball - LK-B - Herren (Ortenberg)
DESCRIPTION:8-Ball – LK-B – Herren (Ortenberg)
URL:https://poolsharks-ortenberg.de/event/8-ball-lk-b-herren/
LOCATION:Vereinsheim Poolsharks Ortenberg\, Neue Straße 2\, Ortenberg - Gelnhaar\, Hessen\, 63683\, Deutschland
CATEGORIES:LK-B
ATTACH;FMTTYPE=image/png:https://poolsharks-ortenberg.de/wp-content/uploads/2022/09/HPBV_LK-B_8-Ball_1280x640.png
ORGANIZER;CN="HPBV e.V.":MAILTO:info@hpbv.de
END:VEVENT
BEGIN:VEVENT
DTSTART;TZID=Europe/Berlin:20230108T110000
DTEND;TZID=Europe/Berlin:20230108T170000
DTSTAMP:20260422T054715
CREATED:20220826T132249Z
LAST-MODIFIED:20220906T091550Z
UID:1807-1673175600-1673197200@poolsharks-ortenberg.de
SUMMARY:8-Ball - LK-B - Senioren
DESCRIPTION:8-Ball – LK-B – Senioren
URL:https://poolsharks-ortenberg.de/event/8-ball-lk-b-senioren/
LOCATION:Vereinsheim Poolsharks Ortenberg\, Neue Straße 2\, Ortenberg - Gelnhaar\, Hessen\, 63683\, Deutschland
CATEGORIES:LK-B
ATTACH;FMTTYPE=image/png:https://poolsharks-ortenberg.de/wp-content/uploads/2022/09/HPBV_LK-B_8-Ball_1280x640.png
ORGANIZER;CN="HPBV e.V.":MAILTO:info@hpbv.de
END:VEVENT
BEGIN:VEVENT
DTSTART;TZID=Europe/Berlin:20230107T160000
DTEND;TZID=Europe/Berlin:20230107T210000
DTSTAMP:20260422T054715
CREATED:20220822T231142Z
LAST-MODIFIED:20220906T091440Z
UID:1609-1673107200-1673125200@poolsharks-ortenberg.de
SUMMARY:PBC Pool Sharks Ortenberg 2 - BV Kahl a. Main 3
DESCRIPTION:Landesliga 1 – 9. Spieltag – PBC Pool Sharks Ortenberg 2 gegen BV Kahl a. Main 3
URL:https://poolsharks-ortenberg.de/event/pbc-pool-sharks-ortenberg-2-bv-kahl-a-main-3/
LOCATION:Vereinsheim Poolsharks Ortenberg\, Neue Straße 2\, Ortenberg - Gelnhaar\, Hessen\, 63683\, Deutschland
CATEGORIES:Landesliga
ATTACH;FMTTYPE=image/png:https://poolsharks-ortenberg.de/wp-content/uploads/2022/08/HPBV_Landesliga_1280x640.png
ORGANIZER;CN="HPBV e.V.":MAILTO:info@hpbv.de
END:VEVENT
BEGIN:VEVENT
DTSTART;TZID=Europe/Berlin:20230107T160000
DTEND;TZID=Europe/Berlin:20230107T210000
DTSTAMP:20260422T054715
CREATED:20220822T231142Z
LAST-MODIFIED:20220903T195746Z
UID:1623-1673107200-1673125200@poolsharks-ortenberg.de
SUMMARY:PBC Pool Sharks Ortenberg 3 - Pool Devils Neu Anspach 2
DESCRIPTION:Bezirksliga 1 – 9. Spieltag – PBC Pool Sharks Ortenberg 3 gegen Pool Devils Neu Anspach 2
URL:https://poolsharks-ortenberg.de/event/pbc-pool-sharks-ortenberg-3-pool-devils-neu-anspach-2/
LOCATION:Vereinsheim Poolsharks Ortenberg\, Neue Straße 2\, Ortenberg - Gelnhaar\, Hessen\, 63683\, Deutschland
CATEGORIES:Bezirksliga
ATTACH;FMTTYPE=image/png:https://poolsharks-ortenberg.de/wp-content/uploads/2022/09/HPBV_Bezirksliga_1280x640.png
ORGANIZER;CN="HPBV e.V.":MAILTO:info@hpbv.de
END:VEVENT
BEGIN:VEVENT
DTSTART;TZID=Europe/Berlin:20230107T160000
DTEND;TZID=Europe/Berlin:20230107T210000
DTSTAMP:20260422T054715
CREATED:20220822T231141Z
LAST-MODIFIED:20220903T195845Z
UID:1635-1673107200-1673125200@poolsharks-ortenberg.de
SUMMARY:SG Johannesberg 7 - PBC Pool Sharks Ortenberg 4
DESCRIPTION:Kreisliga 2 – 9. Spieltag – SG Johannesberg 7 gegen PBC Pool Sharks Ortenberg 4
URL:https://poolsharks-ortenberg.de/event/sg-johannesberg-7-pbc-pool-sharks-ortenberg-4/
LOCATION:Sportzentrum Johannesberg\, Agricolastr. 8\, Fulda-Johannesberg\, Hessen\, 36041\, Deutschland
CATEGORIES:Kreisliga
ATTACH;FMTTYPE=image/png:https://poolsharks-ortenberg.de/wp-content/uploads/2022/09/HPBV_Kreisliga_1280x640.png
ORGANIZER;CN="HPBV e.V.":MAILTO:info@hpbv.de
END:VEVENT
BEGIN:VEVENT
DTSTART;TZID=Europe/Berlin:20230107T110000
DTEND;TZID=Europe/Berlin:20230107T160000
DTSTAMP:20260422T054715
CREATED:20220822T231142Z
LAST-MODIFIED:20220903T200132Z
UID:1593-1673089200-1673107200@poolsharks-ortenberg.de
SUMMARY:Billard Bianco Dieburg 1 - PBC Pool Sharks Ortenberg 1
DESCRIPTION:Oberliga – 9. Spieltag – Billard Bianco Dieburg 1 gegen PBC Pool Sharks Ortenberg 1
URL:https://poolsharks-ortenberg.de/event/billard-bianco-dieburg-1-pbc-pool-sharks-ortenberg-1/
LOCATION:Sportsbar Delphin Groß-Umstadt\, Frankenstrasse 6\, Groß-Umstadt\, Hessen\, 64823\, Deutschland
CATEGORIES:Oberliga
ATTACH;FMTTYPE=image/png:https://poolsharks-ortenberg.de/wp-content/uploads/2022/09/HPBV_Oberliga_1280x640.png
ORGANIZER;CN="HPBV e.V.":MAILTO:info@hpbv.de
END:VEVENT
BEGIN:VEVENT
DTSTART;TZID=Europe/Berlin:20221218T110000
DTEND;TZID=Europe/Berlin:20221218T170000
DTSTAMP:20260422T054715
CREATED:20220830T100401Z
LAST-MODIFIED:20220914T172830Z
UID:1942-1671361200-1671382800@poolsharks-ortenberg.de
SUMMARY:14.1 - LK-C - Herren (Gießen)
DESCRIPTION:14.1 – LK-C – Herren (Gießen)
URL:https://poolsharks-ortenberg.de/event/14-1-lk-c-herren-giessen/
LOCATION:Straight Pool Gießen\, Grünberger Straße 140\, Gießen\, Hessen\, 35394\, Deutschland
CATEGORIES:LK-C
ATTACH;FMTTYPE=image/png:https://poolsharks-ortenberg.de/wp-content/uploads/2022/09/HPBV_LK-C_14.1e_1280x640.png
ORGANIZER;CN="HPBV e.V.":MAILTO:info@hpbv.de
END:VEVENT
BEGIN:VEVENT
DTSTART;TZID=Europe/Berlin:20221218T110000
DTEND;TZID=Europe/Berlin:20221218T170000
DTSTAMP:20260422T054715
CREATED:20220826T132248Z
LAST-MODIFIED:20220914T172856Z
UID:1804-1671361200-1671382800@poolsharks-ortenberg.de
SUMMARY:14.1 - LK-C - Herren (Ortenberg)
DESCRIPTION:14.1 – LK-C – Herren (Ortenberg)
URL:https://poolsharks-ortenberg.de/event/14-1-lk-c-herren/
LOCATION:Vereinsheim Poolsharks Ortenberg\, Neue Straße 2\, Ortenberg - Gelnhaar\, Hessen\, 63683\, Deutschland
CATEGORIES:LK-C
ATTACH;FMTTYPE=image/png:https://poolsharks-ortenberg.de/wp-content/uploads/2022/09/HPBV_LK-C_14.1e_1280x640.png
ORGANIZER;CN="HPBV e.V.":MAILTO:info@hpbv.de
END:VEVENT
BEGIN:VEVENT
DTSTART;TZID=Europe/Berlin:20221218T110000
DTEND;TZID=Europe/Berlin:20221218T170000
DTSTAMP:20260422T054715
CREATED:20220826T132248Z
LAST-MODIFIED:20220914T172934Z
UID:1806-1671361200-1671382800@poolsharks-ortenberg.de
SUMMARY:14.1 - LK-C - Senioren
DESCRIPTION:14.1 – LK-C – Senioren
URL:https://poolsharks-ortenberg.de/event/14-1-lk-c-senioren/
LOCATION:BV Kahl Vereinsheim\, Hanauerlandstraße 105\, Kahl a. Main\, Hessen\, 63796\, Germany
CATEGORIES:LK-C
ATTACH;FMTTYPE=image/png:https://poolsharks-ortenberg.de/wp-content/uploads/2022/09/HPBV_LK-C_14.1e_1280x640.png
ORGANIZER;CN="HPBV e.V.":MAILTO:info@hpbv.de
END:VEVENT
BEGIN:VEVENT
DTSTART;TZID=Europe/Berlin:20221217T160000
DTEND;TZID=Europe/Berlin:20221217T210000
DTSTAMP:20260422T054715
CREATED:20220822T231049Z
LAST-MODIFIED:20220906T091234Z
UID:1608-1671292800-1671310800@poolsharks-ortenberg.de
SUMMARY:PBC Herborn 1 - PBC Pool Sharks Ortenberg 2
DESCRIPTION:Landesliga 1 – 8. Spieltag – PBC Herborn 1 gegen PBC Pool Sharks Ortenberg 2
URL:https://poolsharks-ortenberg.de/event/pbc-herborn-1-pbc-pool-sharks-ortenberg-2/
LOCATION:Golden Eye Bar\, Kaiserstraße 1-3\, Herborn\, Hessen\, 35745\, Deutschland
CATEGORIES:Landesliga
ATTACH;FMTTYPE=image/png:https://poolsharks-ortenberg.de/wp-content/uploads/2022/08/HPBV_Landesliga_1280x640.png
ORGANIZER;CN="HPBV e.V.":MAILTO:info@hpbv.de
END:VEVENT
BEGIN:VEVENT
DTSTART;TZID=Europe/Berlin:20221217T160000
DTEND;TZID=Europe/Berlin:20221217T210000
DTSTAMP:20260422T054715
CREATED:20220822T231048Z
LAST-MODIFIED:20220906T091138Z
UID:1622-1671292800-1671310800@poolsharks-ortenberg.de
SUMMARY:1. PBC Giessen 1986 5 - PBC Pool Sharks Ortenberg 3
DESCRIPTION:Bezirksliga 1 – 8. Spieltag – 1. PBC Giessen 1986 5 gegen PBC Pool Sharks Ortenberg 3
URL:https://poolsharks-ortenberg.de/event/1-pbc-giessen-1986-5-pbc-pool-sharks-ortenberg-3/
LOCATION:Straight Pool Gießen\, Grünberger Straße 140\, Gießen\, Hessen\, 35394\, Deutschland
CATEGORIES:Bezirksliga
ATTACH;FMTTYPE=image/png:https://poolsharks-ortenberg.de/wp-content/uploads/2022/09/HPBV_Bezirksliga_1280x640.png
ORGANIZER;CN="HPBV e.V.":MAILTO:info@hpbv.de
END:VEVENT
BEGIN:VEVENT
DTSTART;TZID=Europe/Berlin:20221217T160000
DTEND;TZID=Europe/Berlin:20221217T210000
DTSTAMP:20260422T054715
CREATED:20220822T231048Z
LAST-MODIFIED:20220906T091214Z
UID:1634-1671292800-1671310800@poolsharks-ortenberg.de
SUMMARY:PBC Pool Sharks Ortenberg 4 - BC Frankfurt 1912 2
DESCRIPTION:Kreisliga 2 – 8. Spieltag – PBC Pool Sharks Ortenberg 4 gegen BC Frankfurt 1912 2
URL:https://poolsharks-ortenberg.de/event/pbc-pool-sharks-ortenberg-4-bc-frankfurt-1912-2/
LOCATION:Vereinsheim Poolsharks Ortenberg\, Neue Straße 2\, Ortenberg - Gelnhaar\, Hessen\, 63683\, Deutschland
CATEGORIES:Kreisliga
ATTACH;FMTTYPE=image/png:https://poolsharks-ortenberg.de/wp-content/uploads/2022/09/HPBV_Kreisliga_1280x640.png
ORGANIZER;CN="HPBV e.V.":MAILTO:info@hpbv.de
END:VEVENT
BEGIN:VEVENT
DTSTART;TZID=Europe/Berlin:20221217T110000
DTEND;TZID=Europe/Berlin:20221217T160000
DTSTAMP:20260422T054715
CREATED:20220822T231049Z
LAST-MODIFIED:20220906T091115Z
UID:1592-1671274800-1671292800@poolsharks-ortenberg.de
SUMMARY:PBC Pool Sharks Ortenberg 1 - BV Schierstein 1
DESCRIPTION:Oberliga – 8. Spieltag – PBC Pool Sharks Ortenberg 1 gegen BV Schierstein 1
URL:https://poolsharks-ortenberg.de/event/pbc-pool-sharks-ortenberg-1-bv-schierstein-1/
LOCATION:Vereinsheim Poolsharks Ortenberg\, Neue Straße 2\, Ortenberg - Gelnhaar\, Hessen\, 63683\, Deutschland
CATEGORIES:Oberliga
ATTACH;FMTTYPE=image/png:https://poolsharks-ortenberg.de/wp-content/uploads/2022/09/HPBV_Oberliga_1280x640.png
ORGANIZER;CN="HPBV e.V.":MAILTO:info@hpbv.de
END:VEVENT
BEGIN:VEVENT
DTSTART;TZID=Europe/Berlin:20221204T110000
DTEND;TZID=Europe/Berlin:20221204T170000
DTSTAMP:20260422T054715
CREATED:20220830T100347Z
LAST-MODIFIED:20220914T172449Z
UID:1941-1670151600-1670173200@poolsharks-ortenberg.de
SUMMARY:10-Ball - LK-C - Herren (Dreieich)
DESCRIPTION:10-Ball – LK-C – Herren (Dreieich)
URL:https://poolsharks-ortenberg.de/event/10-ball-lk-c-herren-dreieich/
LOCATION:PBC Dreieich-Sprendlingen Vereinsheim\, Eisenbahnstraße 102\, Dreieich-Sprendlingen\, Hessen\, 63303\, Germany
CATEGORIES:LK-C
ATTACH;FMTTYPE=image/png:https://poolsharks-ortenberg.de/wp-content/uploads/2022/09/HPBV_LK-C_10-Ball_1280x640.png
ORGANIZER;CN="HPBV e.V.":MAILTO:info@hpbv.de
END:VEVENT
BEGIN:VEVENT
DTSTART;TZID=Europe/Berlin:20221204T110000
DTEND;TZID=Europe/Berlin:20221204T170000
DTSTAMP:20260422T054715
CREATED:20220826T132248Z
LAST-MODIFIED:20220914T172528Z
UID:1803-1670151600-1670173200@poolsharks-ortenberg.de
SUMMARY:10-Ball - LK-C - Senioren
DESCRIPTION:10-Ball – LK-C – Senioren
URL:https://poolsharks-ortenberg.de/event/10-ball-lk-c-senioren/
LOCATION:BV Kahl Vereinsheim\, Hanauerlandstraße 105\, Kahl a. Main\, Hessen\, 63796\, Germany
CATEGORIES:LK-C
ATTACH;FMTTYPE=image/png:https://poolsharks-ortenberg.de/wp-content/uploads/2022/09/HPBV_LK-C_10-Ball_1280x640.png
ORGANIZER;CN="HPBV e.V.":MAILTO:info@hpbv.de
END:VEVENT
BEGIN:VEVENT
DTSTART;TZID=Europe/Berlin:20221204T110000
DTEND;TZID=Europe/Berlin:20221204T170000
DTSTAMP:20260422T054715
CREATED:20220826T132233Z
LAST-MODIFIED:20220914T172615Z
UID:1801-1670151600-1670173200@poolsharks-ortenberg.de
SUMMARY:10-Ball - LK-C - Herren (Gießen)
DESCRIPTION:10-Ball – LK-C – Herren (Gießen)
URL:https://poolsharks-ortenberg.de/event/10-ball-lk-c-herren/
LOCATION:Straight Pool Gießen\, Grünberger Straße 140\, Gießen\, Hessen\, 35394\, Deutschland
CATEGORIES:LK-C
ATTACH;FMTTYPE=image/png:https://poolsharks-ortenberg.de/wp-content/uploads/2022/09/HPBV_LK-C_10-Ball_1280x640.png
ORGANIZER;CN="HPBV e.V.":MAILTO:info@hpbv.de
END:VEVENT
BEGIN:VEVENT
DTSTART;TZID=Europe/Berlin:20221203T110000
DTEND;TZID=Europe/Berlin:20221203T160000
DTSTAMP:20260422T054715
CREATED:20220822T231049Z
LAST-MODIFIED:20220906T091043Z
UID:1591-1670065200-1670083200@poolsharks-ortenberg.de
SUMMARY:PBV Limburg 1 - PBC Pool Sharks Ortenberg 1
DESCRIPTION:Oberliga – 7. Spieltag – PBV Limburg 1 gegen PBC Pool Sharks Ortenberg 1
URL:https://poolsharks-ortenberg.de/event/pbv-limburg-1-pbc-pool-sharks-ortenberg-1/
LOCATION:PBV Limburg Vereinsheim\, Gymnasiumstraße 11\, Hadamar\, Hessen\, 65589\, Deutschland
CATEGORIES:Oberliga
ATTACH;FMTTYPE=image/png:https://poolsharks-ortenberg.de/wp-content/uploads/2022/09/HPBV_Oberliga_1280x640.png
ORGANIZER;CN="HPBV e.V.":MAILTO:info@hpbv.de
END:VEVENT
BEGIN:VEVENT
DTSTART;TZID=Europe/Berlin:20221126T160000
DTEND;TZID=Europe/Berlin:20221126T210000
DTSTAMP:20260422T054715
CREATED:20220822T231050Z
LAST-MODIFIED:20220906T091017Z
UID:1607-1669478400-1669496400@poolsharks-ortenberg.de
SUMMARY:PBC Pool Sharks Ortenberg 2 - PBC Gelnhausen 2
DESCRIPTION:Landesliga 1 – 6. Spieltag – PBC Pool Sharks Ortenberg 2 gegen PBC Gelnhausen 2
URL:https://poolsharks-ortenberg.de/event/pbc-pool-sharks-ortenberg-2-pbc-gelnhausen-2/
LOCATION:Vereinsheim Poolsharks Ortenberg\, Neue Straße 2\, Ortenberg - Gelnhaar\, Hessen\, 63683\, Deutschland
CATEGORIES:Landesliga
ATTACH;FMTTYPE=image/png:https://poolsharks-ortenberg.de/wp-content/uploads/2022/08/HPBV_Landesliga_1280x640.png
ORGANIZER;CN="HPBV e.V.":MAILTO:info@hpbv.de
END:VEVENT
BEGIN:VEVENT
DTSTART;TZID=Europe/Berlin:20221126T160000
DTEND;TZID=Europe/Berlin:20221126T210000
DTSTAMP:20260422T054715
CREATED:20220822T231049Z
LAST-MODIFIED:20220906T090920Z
UID:1621-1669478400-1669496400@poolsharks-ortenberg.de
SUMMARY:PBC Pool Sharks Ortenberg 3 - 1. PBC Giessen 1986 4
DESCRIPTION:Bezirksliga 1 – 6. Spieltag – PBC Pool Sharks Ortenberg 3 gegen 1. PBC Giessen 1986 4
URL:https://poolsharks-ortenberg.de/event/pbc-pool-sharks-ortenberg-3-1-pbc-giessen-1986-4/
LOCATION:Vereinsheim Poolsharks Ortenberg\, Neue Straße 2\, Ortenberg - Gelnhaar\, Hessen\, 63683\, Deutschland
CATEGORIES:Bezirksliga
ATTACH;FMTTYPE=image/png:https://poolsharks-ortenberg.de/wp-content/uploads/2022/09/HPBV_Bezirksliga_1280x640.png
ORGANIZER;CN="HPBV e.V.":MAILTO:info@hpbv.de
END:VEVENT
BEGIN:VEVENT
DTSTART;TZID=Europe/Berlin:20221126T110000
DTEND;TZID=Europe/Berlin:20221126T160000
DTSTAMP:20260422T054715
CREATED:20220822T231050Z
LAST-MODIFIED:20220906T090901Z
UID:1590-1669460400-1669478400@poolsharks-ortenberg.de
SUMMARY:PBC Pool Sharks Ortenberg 1 - TV 1876 Eberstadt 1
DESCRIPTION:Oberliga – 6. Spieltag – PBC Pool Sharks Ortenberg 1 gegen TV 1876 Eberstadt 1
URL:https://poolsharks-ortenberg.de/event/pbc-pool-sharks-ortenberg-1-tv-1876-eberstadt-1/
LOCATION:Vereinsheim Poolsharks Ortenberg\, Neue Straße 2\, Ortenberg - Gelnhaar\, Hessen\, 63683\, Deutschland
CATEGORIES:Oberliga
ATTACH;FMTTYPE=image/png:https://poolsharks-ortenberg.de/wp-content/uploads/2022/09/HPBV_Oberliga_1280x640.png
ORGANIZER;CN="HPBV e.V.":MAILTO:info@hpbv.de
END:VEVENT
BEGIN:VEVENT
DTSTART;TZID=Europe/Berlin:20221029T160000
DTEND;TZID=Europe/Berlin:20221029T210000
DTSTAMP:20260422T054715
CREATED:20220822T231050Z
LAST-MODIFIED:20220906T090544Z
UID:1620-1667059200-1667077200@poolsharks-ortenberg.de
SUMMARY:1. PBC Karben 2 - PBC Pool Sharks Ortenberg 3
DESCRIPTION:Bezirksliga 1 – 5. Spieltag – 1. PBC Karben 2 gegen PBC Pool Sharks Ortenberg 3
URL:https://poolsharks-ortenberg.de/event/1-pbc-karben-2-pbc-pool-sharks-ortenberg-3/
LOCATION:1. PBC Karben Vereinsheim\, Robert-Bosch-Straße 62\, Karben\, Hessen\, 61184\, Deutschland
CATEGORIES:Bezirksliga
ATTACH;FMTTYPE=image/png:https://poolsharks-ortenberg.de/wp-content/uploads/2022/09/HPBV_Bezirksliga_1280x640.png
ORGANIZER;CN="HPBV e.V.":MAILTO:info@hpbv.de
END:VEVENT
BEGIN:VEVENT
DTSTART;TZID=Europe/Berlin:20221029T160000
DTEND;TZID=Europe/Berlin:20221029T210000
DTSTAMP:20260422T054715
CREATED:20220822T231050Z
LAST-MODIFIED:20220906T090523Z
UID:1606-1667059200-1667077200@poolsharks-ortenberg.de
SUMMARY:PBC Pool Sharks Ortenberg 2 - SG Johannesberg 3
DESCRIPTION:Landesliga 1 – 5. Spieltag – PBC Pool Sharks Ortenberg 2 gegen SG Johannesberg 3
URL:https://poolsharks-ortenberg.de/event/pbc-pool-sharks-ortenberg-2-sg-johannesberg-3/
LOCATION:Vereinsheim Poolsharks Ortenberg\, Neue Straße 2\, Ortenberg - Gelnhaar\, Hessen\, 63683\, Deutschland
CATEGORIES:Landesliga
ATTACH;FMTTYPE=image/png:https://poolsharks-ortenberg.de/wp-content/uploads/2022/08/HPBV_Landesliga_1280x640.png
ORGANIZER;CN="HPBV e.V.":MAILTO:info@hpbv.de
END:VEVENT
END:VCALENDAR