BEGIN:VCALENDAR
VERSION:2.0
PRODID:-//PBC Poolsharks Ortenberg e.V. - ECPv6.15.17.1//NONSGML v1.0//EN
CALSCALE:GREGORIAN
METHOD:PUBLISH
X-WR-CALNAME:PBC Poolsharks Ortenberg e.V.
X-ORIGINAL-URL:https://poolsharks-ortenberg.de
X-WR-CALDESC:Veranstaltungen für PBC Poolsharks Ortenberg e.V.
REFRESH-INTERVAL;VALUE=DURATION:PT1H
X-Robots-Tag:noindex
X-PUBLISHED-TTL:PT1H
BEGIN:VTIMEZONE
TZID:Europe/Berlin
BEGIN:DAYLIGHT
TZOFFSETFROM:+0100
TZOFFSETTO:+0200
TZNAME:CEST
DTSTART:20230326T010000
END:DAYLIGHT
BEGIN:STANDARD
TZOFFSETFROM:+0200
TZOFFSETTO:+0100
TZNAME:CET
DTSTART:20231029T010000
END:STANDARD
BEGIN:DAYLIGHT
TZOFFSETFROM:+0100
TZOFFSETTO:+0200
TZNAME:CEST
DTSTART:20240331T010000
END:DAYLIGHT
BEGIN:STANDARD
TZOFFSETFROM:+0200
TZOFFSETTO:+0100
TZNAME:CET
DTSTART:20241027T010000
END:STANDARD
BEGIN:DAYLIGHT
TZOFFSETFROM:+0100
TZOFFSETTO:+0200
TZNAME:CEST
DTSTART:20250330T010000
END:DAYLIGHT
BEGIN:STANDARD
TZOFFSETFROM:+0200
TZOFFSETTO:+0100
TZNAME:CET
DTSTART:20251026T010000
END:STANDARD
BEGIN:DAYLIGHT
TZOFFSETFROM:+0100
TZOFFSETTO:+0200
TZNAME:CEST
DTSTART:20260329T010000
END:DAYLIGHT
BEGIN:STANDARD
TZOFFSETFROM:+0200
TZOFFSETTO:+0100
TZNAME:CET
DTSTART:20261025T010000
END:STANDARD
END:VTIMEZONE
BEGIN:VEVENT
DTSTART;TZID=Europe/Berlin:20251115T110000
DTEND;TZID=Europe/Berlin:20251116T190000
DTSTAMP:20260421T113144
CREATED:20250825T111346Z
LAST-MODIFIED:20250825T111346Z
UID:3358-1763204400-1763319600@poolsharks-ortenberg.de
SUMMARY:Offene Hessenmeisterschaften Handicap 2025
DESCRIPTION:Wir freuen uns wieder außerordentlich auf die Diesjährigen Handicap Meisterschaften! \nÜber Cuescore und Youtube könnt Ihr es auch wieder Live von zuhause mitverfolgen.
URL:https://poolsharks-ortenberg.de/event/offene-hessenmeisterschaften-handicap-2025/
LOCATION:Vereinsheim Poolsharks Ortenberg\, Neue Straße 2\, Ortenberg - Gelnhaar\, Hessen\, 63683\, Deutschland
CATEGORIES:Offene HM Handicap
ATTACH;FMTTYPE=image/jpeg:https://poolsharks-ortenberg.de/wp-content/uploads/2024/09/HANDICAP_PBC_QUER_smal.jpg
ORGANIZER;CN="PBC Poolsharks Ortenberg e.V.":MAILTO:vorstand@poolsharks-ortenberg.de
END:VEVENT
BEGIN:VEVENT
DTSTART;TZID=Europe/Berlin:20251101T160000
DTEND;TZID=Europe/Berlin:20251101T200000
DTSTAMP:20260421T113144
CREATED:20250914T202733Z
LAST-MODIFIED:20250914T202733Z
UID:3373-1762012800-1762027200@poolsharks-ortenberg.de
SUMMARY:1. BSC 96 Dill Katzenfurt 4 - PBC Pool Sharks Ortenberg 1
DESCRIPTION:HBPV e.V. – Bezirksliga – 5. Spt. – 1. BSC 96 Dill Katzenfurt 4 vs. PBC Pool Sharks Ortenberg 1
URL:https://poolsharks-ortenberg.de/event/1-bsc-96-dill-katzenfurt-4-pbc-pool-sharks-ortenberg-1/
LOCATION:BSC 96 Dill-Katzenfurt Vereinsheim\, Dünnackerstraße 22\, Ehringshausen - Katzenfurt\, Hessen\, 35630\, Deutschland
CATEGORIES:Bezirksliga
END:VEVENT
BEGIN:VEVENT
DTSTART;TZID=Europe/Berlin:20251018T160000
DTEND;TZID=Europe/Berlin:20251018T200000
DTSTAMP:20260421T113144
CREATED:20250914T202733Z
LAST-MODIFIED:20250914T202733Z
UID:3372-1760803200-1760817600@poolsharks-ortenberg.de
SUMMARY:1. PBC Giessen 1986 e.V. 3 - PBC Pool Sharks Ortenberg 1
DESCRIPTION:HBPV e.V. – Bezirksliga – 4. Spt. – 1. PBC Giessen 1986 e.V. 3 vs. PBC Pool Sharks Ortenberg 1
URL:https://poolsharks-ortenberg.de/event/1-pbc-giessen-1986-e-v-3-pbc-pool-sharks-ortenberg-1/
LOCATION:PBC Gießen 1986 Vereinsheim\, Schottstraße 9-11\, Gießen\, Hessen\, 35390\, Germany
CATEGORIES:Bezirksliga
END:VEVENT
BEGIN:VEVENT
DTSTART;TZID=Europe/Berlin:20251004T160000
DTEND;TZID=Europe/Berlin:20251004T200000
DTSTAMP:20260421T113144
CREATED:20250914T202733Z
LAST-MODIFIED:20250914T202733Z
UID:3371-1759593600-1759608000@poolsharks-ortenberg.de
SUMMARY:SG Johannesberg 6 - PBC Pool Sharks Ortenberg 1
DESCRIPTION:HBPV e.V. – Bezirksliga – 3. Spt. – SG Johannesberg 6 vs. PBC Pool Sharks Ortenberg 1
URL:https://poolsharks-ortenberg.de/event/sg-johannesberg-6-pbc-pool-sharks-ortenberg-1/
LOCATION:Sportzentrum Johannesberg\, Agricolastr. 8\, Fulda-Johannesberg\, Hessen\, 36041\, Deutschland
CATEGORIES:Bezirksliga
END:VEVENT
BEGIN:VEVENT
DTSTART;TZID=Europe/Berlin:20250920T160000
DTEND;TZID=Europe/Berlin:20250920T200000
DTSTAMP:20260421T113144
CREATED:20250914T202732Z
LAST-MODIFIED:20250914T202940Z
UID:3370-1758384000-1758398400@poolsharks-ortenberg.de
SUMMARY:PBC Pool Sharks Ortenberg 1 - Billardverein Kahl a. Main e.V. 4
DESCRIPTION:HBPV e.V. – Bezirksliga – 2. Spt. – PBC Pool Sharks Ortenberg 1 vs. Billardverein Kahl a. Main e.V. 4
URL:https://poolsharks-ortenberg.de/event/pbc-pool-sharks-ortenberg-1-billardverein-kahl-a-main-e-v-4/
LOCATION:Vereinsheim Poolsharks Ortenberg\, Neue Straße 2\, Ortenberg - Gelnhaar\, Hessen\, 63683\, Deutschland
CATEGORIES:Bezirksliga
END:VEVENT
BEGIN:VEVENT
DTSTART;TZID=Europe/Berlin:20250906T160000
DTEND;TZID=Europe/Berlin:20250906T200000
DTSTAMP:20260421T113144
CREATED:20250914T202732Z
LAST-MODIFIED:20250914T202837Z
UID:3369-1757174400-1757188800@poolsharks-ortenberg.de
SUMMARY:PBC Pool Sharks Ortenberg 1 - Pool Devils Neu Anspach 3
DESCRIPTION:HBPV e.V. – Bezirksliga – 1. Spt. – PBC Pool Sharks Ortenberg 1 vs. Pool Devils Neu Anspach 3
URL:https://poolsharks-ortenberg.de/event/pbc-pool-sharks-ortenberg-1-pool-devils-neu-anspach-3/
LOCATION:Vereinsheim Poolsharks Ortenberg\, Neue Straße 2\, Ortenberg - Gelnhaar\, Hessen\, 63683\, Deutschland
CATEGORIES:Bezirksliga
END:VEVENT
BEGIN:VEVENT
DTSTART;TZID=Europe/Berlin:20250531T160000
DTEND;TZID=Europe/Berlin:20250531T200000
DTSTAMP:20260421T113144
CREATED:20250129T152147Z
LAST-MODIFIED:20250129T202943Z
UID:3258-1748707200-1748721600@poolsharks-ortenberg.de
SUMMARY:1. PBC Bad Wildungen 2 - PBC Pool Sharks Ortenberg 1
DESCRIPTION:Verbandsliga 18. Spt. – 1. PBC Bad Wildungen 2 – PBC Pool Sharks Ortenberg 1
URL:https://poolsharks-ortenberg.de/event/1-pbc-bad-wildungen-2-pbc-pool-sharks-ortenberg-1/
LOCATION:1. PBC Bad Wildungen Vereinsheim\, Zum Roten Berg 4\, Bad Wildungen\, Hessen\, 34537\, Deutschland
CATEGORIES:Verbandsliga
ATTACH;FMTTYPE=image/png:https://poolsharks-ortenberg.de/wp-content/uploads/2022/09/HPBV_Verbandsliga_1280x640.png
END:VEVENT
BEGIN:VEVENT
DTSTART;TZID=Europe/Berlin:20250531T160000
DTEND;TZID=Europe/Berlin:20250531T200000
DTSTAMP:20260421T113144
CREATED:20250129T152146Z
LAST-MODIFIED:20250129T203006Z
UID:3249-1748707200-1748721600@poolsharks-ortenberg.de
SUMMARY:PBC Pool Sharks Ortenberg 2 - SG Johannesberg 4
DESCRIPTION:Bezirksliga 18. Spt. – PBC Pool Sharks Ortenberg 2 – SG Johannesberg 4
URL:https://poolsharks-ortenberg.de/event/pbc-pool-sharks-ortenberg-2-sg-johannesberg-4-2/
LOCATION:Vereinsheim Poolsharks Ortenberg\, Neue Straße 2\, Ortenberg - Gelnhaar\, Hessen\, 63683\, Deutschland
CATEGORIES:Bezirksliga
ATTACH;FMTTYPE=image/png:https://poolsharks-ortenberg.de/wp-content/uploads/2022/09/HPBV_Bezirksliga_1280x640.png
END:VEVENT
BEGIN:VEVENT
DTSTART;TZID=Europe/Berlin:20250517T160000
DTEND;TZID=Europe/Berlin:20250517T200000
DTSTAMP:20260421T113144
CREATED:20250129T152147Z
LAST-MODIFIED:20250129T152758Z
UID:3257-1747497600-1747512000@poolsharks-ortenberg.de
SUMMARY:PBC Pool Sharks Ortenberg 1 - 1.  BSC 96 Dill Katzenfurt 1
DESCRIPTION:Verbandsliga 17. Spt. – PBC Pool Sharks Ortenberg 1 – 1. BSC 96 Dill Katzenfurt 1
URL:https://poolsharks-ortenberg.de/event/pbc-pool-sharks-ortenberg-1-1-bsc-96-dill-katzenfurt-1/
LOCATION:Vereinsheim Poolsharks Ortenberg\, Neue Straße 2\, Ortenberg - Gelnhaar\, Hessen\, 63683\, Deutschland
CATEGORIES:Verbandsliga
ATTACH;FMTTYPE=image/png:https://poolsharks-ortenberg.de/wp-content/uploads/2022/09/HPBV_Verbandsliga_1280x640.png
END:VEVENT
BEGIN:VEVENT
DTSTART;TZID=Europe/Berlin:20250517T160000
DTEND;TZID=Europe/Berlin:20250517T200000
DTSTAMP:20260421T113144
CREATED:20250129T152146Z
LAST-MODIFIED:20250129T152841Z
UID:3248-1747497600-1747512000@poolsharks-ortenberg.de
SUMMARY:SG Johannesberg 6 - PBC Pool Sharks Ortenberg 2
DESCRIPTION:Bezirksliga 17. Spt. – SG Johannesberg 6 – PBC Pool Sharks Ortenberg 2
URL:https://poolsharks-ortenberg.de/event/sg-johannesberg-6-pbc-pool-sharks-ortenberg-2/
LOCATION:Sportzentrum Johannesberg\, Agricolastr. 8\, Fulda-Johannesberg\, Hessen\, 36041\, Deutschland
CATEGORIES:Bezirksliga
ATTACH;FMTTYPE=image/png:https://poolsharks-ortenberg.de/wp-content/uploads/2022/09/HPBV_Bezirksliga_1280x640.png
END:VEVENT
BEGIN:VEVENT
DTSTART;TZID=Europe/Berlin:20250503T160000
DTEND;TZID=Europe/Berlin:20250503T200000
DTSTAMP:20260421T113144
CREATED:20250129T152148Z
LAST-MODIFIED:20250129T152922Z
UID:3256-1746288000-1746302400@poolsharks-ortenberg.de
SUMMARY:Billardverein Kahl a. Main e.V. 1 - PBC Pool Sharks Ortenberg 1
DESCRIPTION:Verbandsliga 16. Spt. – Billardverein Kahl a. Main e.V. 1 – PBC Pool Sharks Ortenberg 1
URL:https://poolsharks-ortenberg.de/event/billardverein-kahl-a-main-e-v-1-pbc-pool-sharks-ortenberg-1-2/
LOCATION:BV Kahl Vereinsheim\, Hanauerlandstraße 105\, Kahl a. Main\, Hessen\, 63796\, Germany
CATEGORIES:Verbandsliga
ATTACH;FMTTYPE=image/png:https://poolsharks-ortenberg.de/wp-content/uploads/2022/09/HPBV_Verbandsliga_1280x640.png
END:VEVENT
BEGIN:VEVENT
DTSTART;TZID=Europe/Berlin:20250426T160000
DTEND;TZID=Europe/Berlin:20250426T200000
DTSTAMP:20260421T113144
CREATED:20250129T152147Z
LAST-MODIFIED:20250129T153101Z
UID:3255-1745683200-1745697600@poolsharks-ortenberg.de
SUMMARY:PBC Pool Sharks Ortenberg 1 - PBC Ronshausen 1
DESCRIPTION:Verbandsliga 15. Spt. – PBC Pool Sharks Ortenberg 1 – PBC Ronshausen 1
URL:https://poolsharks-ortenberg.de/event/pbc-pool-sharks-ortenberg-1-pbc-ronshausen-1/
LOCATION:Vereinsheim Poolsharks Ortenberg\, Neue Straße 2\, Ortenberg - Gelnhaar\, Hessen\, 63683\, Deutschland
CATEGORIES:Verbandsliga
ATTACH;FMTTYPE=image/png:https://poolsharks-ortenberg.de/wp-content/uploads/2022/09/HPBV_Verbandsliga_1280x640.png
END:VEVENT
BEGIN:VEVENT
DTSTART;TZID=Europe/Berlin:20250426T160000
DTEND;TZID=Europe/Berlin:20250426T200000
DTSTAMP:20260421T113144
CREATED:20250129T152145Z
LAST-MODIFIED:20250129T153201Z
UID:3247-1745683200-1745697600@poolsharks-ortenberg.de
SUMMARY:PBC Pool Sharks Ortenberg 2 - PBC Gelnhausen 5
DESCRIPTION:Bezirksliga 15. Spt. – PBC Pool Sharks Ortenberg 2 – PBC Gelnhausen 5
URL:https://poolsharks-ortenberg.de/event/pbc-pool-sharks-ortenberg-2-pbc-gelnhausen-5/
LOCATION:Vereinsheim Poolsharks Ortenberg\, Neue Straße 2\, Ortenberg - Gelnhaar\, Hessen\, 63683\, Deutschland
CATEGORIES:Bezirksliga
ATTACH;FMTTYPE=image/png:https://poolsharks-ortenberg.de/wp-content/uploads/2022/09/HPBV_Bezirksliga_1280x640.png
END:VEVENT
BEGIN:VEVENT
DTSTART;TZID=Europe/Berlin:20250412T160000
DTEND;TZID=Europe/Berlin:20250412T200000
DTSTAMP:20260421T113144
CREATED:20250129T152145Z
LAST-MODIFIED:20250129T153443Z
UID:3246-1744473600-1744488000@poolsharks-ortenberg.de
SUMMARY:PBC Pool Sharks Ortenberg 2 - Billard Wölfe Gießen e.V. 3
DESCRIPTION:Bezirksliga 14. Spt. – PBC Pool Sharks Ortenberg 2 – Billard Wölfe Gießen e.V. 3
URL:https://poolsharks-ortenberg.de/event/pbc-pool-sharks-ortenberg-2-billard-woelfe-giessen-e-v-3/
LOCATION:Vereinsheim Poolsharks Ortenberg\, Neue Straße 2\, Ortenberg - Gelnhaar\, Hessen\, 63683\, Deutschland
CATEGORIES:Bezirksliga
ATTACH;FMTTYPE=image/png:https://poolsharks-ortenberg.de/wp-content/uploads/2022/09/HPBV_Bezirksliga_1280x640.png
END:VEVENT
BEGIN:VEVENT
DTSTART;TZID=Europe/Berlin:20250315T160000
DTEND;TZID=Europe/Berlin:20250315T200000
DTSTAMP:20260421T113144
CREATED:20250129T152147Z
LAST-MODIFIED:20250129T153511Z
UID:3254-1742054400-1742068800@poolsharks-ortenberg.de
SUMMARY:1. PBC Bad Wildungen 1 - PBC Pool Sharks Ortenberg 1
DESCRIPTION:Verbandsliga 13. Spt. – 1. PBC Bad Wildungen 1 – PBC Pool Sharks Ortenberg 1
URL:https://poolsharks-ortenberg.de/event/1-pbc-bad-wildungen-1-pbc-pool-sharks-ortenberg-1/
LOCATION:1. PBC Bad Wildungen Vereinsheim\, Zum Roten Berg 4\, Bad Wildungen\, Hessen\, 34537\, Deutschland
CATEGORIES:Verbandsliga
ATTACH;FMTTYPE=image/png:https://poolsharks-ortenberg.de/wp-content/uploads/2022/09/HPBV_Verbandsliga_1280x640.png
END:VEVENT
BEGIN:VEVENT
DTSTART;TZID=Europe/Berlin:20250301T160000
DTEND;TZID=Europe/Berlin:20250301T200000
DTSTAMP:20260421T113144
CREATED:20250129T152146Z
LAST-MODIFIED:20250129T153634Z
UID:3253-1740844800-1740859200@poolsharks-ortenberg.de
SUMMARY:PBC Pool Sharks Ortenberg 1 - PBC Gelnhausen 2
DESCRIPTION:Verbandsliga 12. Spt. – PBC Pool Sharks Ortenberg 1 – PBC Gelnhausen 2
URL:https://poolsharks-ortenberg.de/event/pbc-pool-sharks-ortenberg-1-pbc-gelnhausen-2/
LOCATION:Vereinsheim Poolsharks Ortenberg\, Neue Straße 2\, Ortenberg - Gelnhaar\, Hessen\, 63683\, Deutschland
CATEGORIES:Verbandsliga
ATTACH;FMTTYPE=image/png:https://poolsharks-ortenberg.de/wp-content/uploads/2022/09/HPBV_Verbandsliga_1280x640.png
END:VEVENT
BEGIN:VEVENT
DTSTART;TZID=Europe/Berlin:20250301T160000
DTEND;TZID=Europe/Berlin:20250301T200000
DTSTAMP:20260421T113144
CREATED:20250129T152145Z
LAST-MODIFIED:20250129T202044Z
UID:3245-1740844800-1740859200@poolsharks-ortenberg.de
SUMMARY:Billardverein Kahl a. Main e.V. 5 - PBC Pool Sharks Ortenberg 2
DESCRIPTION:Bezirksliga 12. Spt. – Billardverein Kahl a. Main e.V. 5 – PBC Pool Sharks Ortenberg 2
URL:https://poolsharks-ortenberg.de/event/billardverein-kahl-a-main-e-v-5-pbc-pool-sharks-ortenberg-2/
LOCATION:BV Kahl Vereinsheim\, Hanauerlandstraße 105\, Kahl a. Main\, Hessen\, 63796\, Germany
CATEGORIES:Bezirksliga
ATTACH;FMTTYPE=image/png:https://poolsharks-ortenberg.de/wp-content/uploads/2022/09/HPBV_Bezirksliga_1280x640.png
END:VEVENT
BEGIN:VEVENT
DTSTART;TZID=Europe/Berlin:20250223T110000
DTEND;TZID=Europe/Berlin:20250223T110000
DTSTAMP:20260421T113144
CREATED:20250202T212431Z
LAST-MODIFIED:20250202T212432Z
UID:3315-1740308400-1740308400@poolsharks-ortenberg.de
SUMMARY:8-Ball – LK-A – Herren
DESCRIPTION:Teilnehmer / Ergebnisse auf CueScore: HPBV 8-Ball LK-A Herren PBC Ortenberg
URL:https://poolsharks-ortenberg.de/event/8-ball-lk-a-herren-3/
LOCATION:Vereinsheim Poolsharks Ortenberg\, Neue Straße 2\, Ortenberg - Gelnhaar\, Hessen\, 63683\, Deutschland
CATEGORIES:LK-A
ATTACH;FMTTYPE=image/png:https://poolsharks-ortenberg.de/wp-content/uploads/2022/09/HPBV_LK-A_8-Ball_1280x640.png
ORGANIZER;CN="HPBV e.V.":MAILTO:info@hpbv.de
END:VEVENT
BEGIN:VEVENT
DTSTART;TZID=Europe/Berlin:20250222T160000
DTEND;TZID=Europe/Berlin:20250222T200000
DTSTAMP:20260421T113144
CREATED:20250129T152146Z
LAST-MODIFIED:20250129T153742Z
UID:3252-1740240000-1740254400@poolsharks-ortenberg.de
SUMMARY:PBC Pool Sharks Ortenberg 1 - 1. PBC Giessen 1986 e.V. 1
DESCRIPTION:Verbandsliga 11. Spt. – PBC Pool Sharks Ortenberg 1 – 1. PBC Giessen 1986 e.V. 1
URL:https://poolsharks-ortenberg.de/event/pbc-pool-sharks-ortenberg-1-1-pbc-giessen-1986-e-v-1/
LOCATION:Vereinsheim Poolsharks Ortenberg\, Neue Straße 2\, Ortenberg - Gelnhaar\, Hessen\, 63683\, Deutschland
CATEGORIES:Verbandsliga
ATTACH;FMTTYPE=image/png:https://poolsharks-ortenberg.de/wp-content/uploads/2022/09/HPBV_Verbandsliga_1280x640.png
END:VEVENT
BEGIN:VEVENT
DTSTART;TZID=Europe/Berlin:20250222T160000
DTEND;TZID=Europe/Berlin:20250222T200000
DTSTAMP:20260421T113144
CREATED:20250129T152145Z
LAST-MODIFIED:20250129T153807Z
UID:3244-1740240000-1740254400@poolsharks-ortenberg.de
SUMMARY:BC Frankfurt 1912 e.V. 3 - PBC Pool Sharks Ortenberg 2
DESCRIPTION:Bezirksliga 11. Spt. – BC Frankfurt 1912 e.V. 3 – PBC Pool Sharks Ortenberg 2
URL:https://poolsharks-ortenberg.de/event/bc-frankfurt-1912-e-v-3-pbc-pool-sharks-ortenberg-2/
LOCATION:BC Frankfurt Vereinsheim\, Borsigallee 45\, Frankfurt am Main\, Hessen\, 60388\, Deutschland
CATEGORIES:Bezirksliga
ATTACH;FMTTYPE=image/png:https://poolsharks-ortenberg.de/wp-content/uploads/2022/09/HPBV_Bezirksliga_1280x640.png
END:VEVENT
BEGIN:VEVENT
DTSTART;TZID=Europe/Berlin:20250215T160000
DTEND;TZID=Europe/Berlin:20250215T200000
DTSTAMP:20260421T113144
CREATED:20250129T152147Z
LAST-MODIFIED:20250129T153846Z
UID:3251-1739635200-1739649600@poolsharks-ortenberg.de
SUMMARY:PBC Pool Sharks Ortenberg 1 - Billard-Union Kassel 2000 e.V. 1
DESCRIPTION:Verbandsliga 10. Spt. – PBC Pool Sharks Ortenberg 1 – Billard-Union Kassel 2000 e.V. 1
URL:https://poolsharks-ortenberg.de/event/pbc-pool-sharks-ortenberg-1-billard-union-kassel-2000-e-v-1/
LOCATION:Vereinsheim Poolsharks Ortenberg\, Neue Straße 2\, Ortenberg - Gelnhaar\, Hessen\, 63683\, Deutschland
CATEGORIES:Verbandsliga
ATTACH;FMTTYPE=image/png:https://poolsharks-ortenberg.de/wp-content/uploads/2022/09/HPBV_Verbandsliga_1280x640.png
END:VEVENT
BEGIN:VEVENT
DTSTART;TZID=Europe/Berlin:20250215T160000
DTEND;TZID=Europe/Berlin:20250215T200000
DTSTAMP:20260421T113144
CREATED:20250129T152145Z
LAST-MODIFIED:20250129T153918Z
UID:3243-1739635200-1739649600@poolsharks-ortenberg.de
SUMMARY:PBC Pool Sharks Ortenberg 2 - TuS Makkabi Frankfurt  e.V. 5
DESCRIPTION:Bezirksliga 10. Spt. – PBC Pool Sharks Ortenberg 2 – TuS Makkabi Frankfurt e.V. 5
URL:https://poolsharks-ortenberg.de/event/pbc-pool-sharks-ortenberg-2-tus-makkabi-frankfurt-e-v-5/
LOCATION:Vereinsheim Poolsharks Ortenberg\, Neue Straße 2\, Ortenberg - Gelnhaar\, Hessen\, 63683\, Deutschland
CATEGORIES:Bezirksliga
ATTACH;FMTTYPE=image/png:https://poolsharks-ortenberg.de/wp-content/uploads/2022/09/HPBV_Bezirksliga_1280x640.png
END:VEVENT
BEGIN:VEVENT
DTSTART;TZID=Europe/Berlin:20250202T110000
DTEND;TZID=Europe/Berlin:20250202T210000
DTSTAMP:20260421T113144
CREATED:20250129T200008Z
LAST-MODIFIED:20250129T231046Z
UID:3277-1738494000-1738530000@poolsharks-ortenberg.de
SUMMARY:14.1 – LK-B – Herren (Ortenberg)
DESCRIPTION:Teilnehmer / Ergebnisse auf CueScore: HPBV 14.1-Endlos LK-B Herren PBC Poolsharks Ortenberg
URL:https://poolsharks-ortenberg.de/event/14-1-lk-b-herren-ortenberg/
LOCATION:Vereinsheim Poolsharks Ortenberg\, Neue Straße 2\, Ortenberg - Gelnhaar\, Hessen\, 63683\, Deutschland
CATEGORIES:LK-B
ATTACH;FMTTYPE=image/png:https://poolsharks-ortenberg.de/wp-content/uploads/2022/09/HPBV_LK-B_14.1e_1280x640.png
ORGANIZER;CN="HPBV e.V.":MAILTO:info@hpbv.de
END:VEVENT
BEGIN:VEVENT
DTSTART;TZID=Europe/Berlin:20250201T160000
DTEND;TZID=Europe/Berlin:20250201T200000
DTSTAMP:20260421T113145
CREATED:20250129T152146Z
LAST-MODIFIED:20250129T153955Z
UID:3250-1738425600-1738440000@poolsharks-ortenberg.de
SUMMARY:PBC Pool Sharks Ortenberg 1 - 1. PBC Bad Wildungen 2
DESCRIPTION:Verbandsliga 9. Spt. – PBC Pool Sharks Ortenberg 1 – 1. PBC Bad Wildungen 2
URL:https://poolsharks-ortenberg.de/event/pbc-pool-sharks-ortenberg-1-1-pbc-bad-wildungen-2/
LOCATION:Vereinsheim Poolsharks Ortenberg\, Neue Straße 2\, Ortenberg - Gelnhaar\, Hessen\, 63683\, Deutschland
CATEGORIES:Verbandsliga
ATTACH;FMTTYPE=image/png:https://poolsharks-ortenberg.de/wp-content/uploads/2022/09/HPBV_Verbandsliga_1280x640.png
END:VEVENT
BEGIN:VEVENT
DTSTART;TZID=Europe/Berlin:20250201T160000
DTEND;TZID=Europe/Berlin:20250201T200000
DTSTAMP:20260421T113145
CREATED:20250129T152145Z
LAST-MODIFIED:20250129T154046Z
UID:3242-1738425600-1738440000@poolsharks-ortenberg.de
SUMMARY:SG Johannesberg 4 - PBC Pool Sharks Ortenberg 2
DESCRIPTION:Bezirksliga 9. Spt. – SG Johannesberg 4 – PBC Pool Sharks Ortenberg 2
URL:https://poolsharks-ortenberg.de/event/sg-johannesberg-4-pbc-pool-sharks-ortenberg-2-2/
LOCATION:Sportzentrum Johannesberg\, Agricolastr. 8\, Fulda-Johannesberg\, Hessen\, 36041\, Deutschland
CATEGORIES:Bezirksliga
ATTACH;FMTTYPE=image/png:https://poolsharks-ortenberg.de/wp-content/uploads/2022/09/HPBV_Bezirksliga_1280x640.png
END:VEVENT
BEGIN:VEVENT
DTSTART;TZID=Europe/Berlin:20240728T110000
DTEND;TZID=Europe/Berlin:20240728T190000
DTSTAMP:20260421T113145
CREATED:20230906T082900Z
LAST-MODIFIED:20230906T082900Z
UID:2805-1722164400-1722193200@poolsharks-ortenberg.de
SUMMARY:Info Sportwartetagung LSBH Frankfurt
DESCRIPTION:Sportwartetagung LSBH Frankfurt
URL:https://poolsharks-ortenberg.de/event/info-sportwartetagung-lsbh-frankfurt/
LOCATION:Landessportbund Hessen e.V.\, Otto-Fleck-Schneise 4\, Frankfurt am Main\, Hessen\, 60528\, Deutschland
CATEGORIES:Sportwartetagung
ORGANIZER;CN="HPBV e.V.":MAILTO:info@hpbv.de
END:VEVENT
BEGIN:VEVENT
DTSTART;TZID=Europe/Berlin:20240622T110000
DTEND;TZID=Europe/Berlin:20240622T190000
DTSTAMP:20260421T113145
CREATED:20230906T083024Z
LAST-MODIFIED:20230906T083024Z
UID:2804-1719054000-1719082800@poolsharks-ortenberg.de
SUMMARY:Relegationsspieltag Pool
DESCRIPTION:Relegationsspieltag Pool
URL:https://poolsharks-ortenberg.de/event/relegationsspieltag-pool/
LOCATION:Hessen
CATEGORIES:Relegationsspieltag
ORGANIZER;CN="HPBV e.V.":MAILTO:info@hpbv.de
END:VEVENT
BEGIN:VEVENT
DTSTART;TZID=Europe/Berlin:20240608T160000
DTEND;TZID=Europe/Berlin:20240608T210000
DTSTAMP:20260421T113145
CREATED:20230820T195307Z
LAST-MODIFIED:20230820T195307Z
UID:2651-1717862400-1717880400@poolsharks-ortenberg.de
SUMMARY:PBC Ronshausen 3 - PBC Pool Sharks Ortenberg 2
DESCRIPTION:Bezirksliga 18. Spt. – PBC Ronshausen 3 – PBC Pool Sharks Ortenberg 2
URL:https://poolsharks-ortenberg.de/event/pbc-ronshausen-3-pbc-pool-sharks-ortenberg-2/
LOCATION:PBC Ronshausen Vereinsheim\, Zum Schellenberg 6\, Ronshausen\, Hessen\, 36217\, Deutschland
CATEGORIES:Bezirksliga
ATTACH;FMTTYPE=image/png:https://poolsharks-ortenberg.de/wp-content/uploads/2022/09/HPBV_Bezirksliga_1280x640.png
ORGANIZER;CN="HPBV e.V.":MAILTO:info@hpbv.de
END:VEVENT
BEGIN:VEVENT
DTSTART;TZID=Europe/Berlin:20240608T110000
DTEND;TZID=Europe/Berlin:20240608T160000
DTSTAMP:20260421T113145
CREATED:20230820T203306Z
LAST-MODIFIED:20230820T203306Z
UID:2669-1717844400-1717862400@poolsharks-ortenberg.de
SUMMARY:PBC Pool Sharks Ortenberg 1 - Billard Bianco Dieburg e.V. 1
DESCRIPTION:Oberliga 18. Spt. – PBC Pool Sharks Ortenberg 1 – Billard Bianco Dieburg e.V. 1
URL:https://poolsharks-ortenberg.de/event/pbc-pool-sharks-ortenberg-1-billard-bianco-dieburg-e-v-1/
LOCATION:Vereinsheim Poolsharks Ortenberg\, Neue Straße 2\, Ortenberg - Gelnhaar\, Hessen\, 63683\, Deutschland
CATEGORIES:Oberliga
ATTACH;FMTTYPE=image/png:https://poolsharks-ortenberg.de/wp-content/uploads/2022/09/HPBV_Oberliga_1280x640.png
ORGANIZER;CN="HPBV e.V.":MAILTO:info@hpbv.de
END:VEVENT
BEGIN:VEVENT
DTSTART;TZID=Europe/Berlin:20240531T170000
DTEND;TZID=Europe/Berlin:20240602T140000
DTSTAMP:20260421T113145
CREATED:20240507T202255Z
LAST-MODIFIED:20240508T091841Z
UID:3108-1717174800-1717336800@poolsharks-ortenberg.de
SUMMARY:Lehrgang Trainer-Assistent (2. Teil - Theoriemodul)
DESCRIPTION:Lehrgangsnummer: HB019 (Lehrgang wird anerkannt zur Lizenzverlängerung) \nAusbilder: Patrick Hummel \nKosten: 100\,00 € \nVoraussetzungen zur Teilnahme an der Ausbildung ist:\n– Vollendung des 16. Lebensjahres\n– Mitglied in einer Untergliederung der DBU \nFür die erfolgreiche Qualifikation zum/zur Trainerassistent*in werden beide Ausbildungsmodule\nbenötigt. Die Teilnehmerzahl für beide Module ist auf 10 Teilnehmer begrenzt. !!! ausgebucht !!!
URL:https://poolsharks-ortenberg.de/event/lehrgang-trainer-assistent-2-teil-theoriemodul/
LOCATION:Vereinsheim Poolsharks Ortenberg\, Neue Straße 2\, Ortenberg - Gelnhaar\, Hessen\, 63683\, Deutschland
CATEGORIES:HPBV Lehrgänge,Trainer-Assistent
ATTACH;FMTTYPE=image/png:https://poolsharks-ortenberg.de/wp-content/uploads/2024/05/HPBV_Lehrgang_1280x640.png
ORGANIZER;CN="HPBV e.V.":MAILTO:info@hpbv.de
END:VEVENT
END:VCALENDAR