BEGIN:VCALENDAR
VERSION:2.0
PRODID:-//PBC Poolsharks Ortenberg e.V. - ECPv6.15.17.1//NONSGML v1.0//EN
CALSCALE:GREGORIAN
METHOD:PUBLISH
X-WR-CALNAME:PBC Poolsharks Ortenberg e.V.
X-ORIGINAL-URL:https://poolsharks-ortenberg.de
X-WR-CALDESC:Veranstaltungen für PBC Poolsharks Ortenberg e.V.
REFRESH-INTERVAL;VALUE=DURATION:PT1H
X-Robots-Tag:noindex
X-PUBLISHED-TTL:PT1H
BEGIN:VTIMEZONE
TZID:Europe/Berlin
BEGIN:DAYLIGHT
TZOFFSETFROM:+0100
TZOFFSETTO:+0200
TZNAME:CEST
DTSTART:20230326T010000
END:DAYLIGHT
BEGIN:STANDARD
TZOFFSETFROM:+0200
TZOFFSETTO:+0100
TZNAME:CET
DTSTART:20231029T010000
END:STANDARD
BEGIN:DAYLIGHT
TZOFFSETFROM:+0100
TZOFFSETTO:+0200
TZNAME:CEST
DTSTART:20240331T010000
END:DAYLIGHT
BEGIN:STANDARD
TZOFFSETFROM:+0200
TZOFFSETTO:+0100
TZNAME:CET
DTSTART:20241027T010000
END:STANDARD
BEGIN:DAYLIGHT
TZOFFSETFROM:+0100
TZOFFSETTO:+0200
TZNAME:CEST
DTSTART:20250330T010000
END:DAYLIGHT
BEGIN:STANDARD
TZOFFSETFROM:+0200
TZOFFSETTO:+0100
TZNAME:CET
DTSTART:20251026T010000
END:STANDARD
END:VTIMEZONE
BEGIN:VEVENT
DTSTART;TZID=Europe/Berlin:20240407T110000
DTEND;TZID=Europe/Berlin:20240407T190000
DTSTAMP:20260421T162429
CREATED:20230825T205257Z
LAST-MODIFIED:20230825T205257Z
UID:2790-1712487600-1712516400@poolsharks-ortenberg.de
SUMMARY:10-Ball - LK-A - Senioren
DESCRIPTION:10-Ball – LK-A – Senioren
URL:https://poolsharks-ortenberg.de/event/10-ball-lk-a-senioren-2/
LOCATION:BV Kahl Vereinsheim\, Hanauerlandstraße 105\, Kahl a. Main\, Hessen\, 63796\, Germany
CATEGORIES:LK-A
ATTACH;FMTTYPE=image/png:https://poolsharks-ortenberg.de/wp-content/uploads/2022/09/HPBV_LK-A_10-Ball_1280x640.png
ORGANIZER;CN="HPBV e.V.":MAILTO:info@hpbv.de
END:VEVENT
BEGIN:VEVENT
DTSTART;TZID=Europe/Berlin:20240407T110000
DTEND;TZID=Europe/Berlin:20240407T190000
DTSTAMP:20260421T162429
CREATED:20230825T205154Z
LAST-MODIFIED:20230825T205154Z
UID:2791-1712487600-1712516400@poolsharks-ortenberg.de
SUMMARY:10-Ball - LK-A - Herren
DESCRIPTION:10-Ball – LK-A – Herren
URL:https://poolsharks-ortenberg.de/event/10-ball-lk-a-herren-2/
LOCATION:PBC Gelnhausen Vereinsheim\, Zum Wartturm 5\, Gelnhausen\, Hessen\, 63571\, Germany
CATEGORIES:LK-A
ATTACH;FMTTYPE=image/png:https://poolsharks-ortenberg.de/wp-content/uploads/2022/09/HPBV_LK-A_10-Ball_1280x640.png
ORGANIZER;CN="HPBV e.V.":MAILTO:info@hpbv.de
END:VEVENT
BEGIN:VEVENT
DTSTART;TZID=Europe/Berlin:20240407T110000
DTEND;TZID=Europe/Berlin:20240407T190000
DTSTAMP:20260421T162429
CREATED:20230825T205111Z
LAST-MODIFIED:20230825T205111Z
UID:2788-1712487600-1712516400@poolsharks-ortenberg.de
SUMMARY:10-Ball - LK-A - Damen
DESCRIPTION:10-Ball – LK-A – Damen
URL:https://poolsharks-ortenberg.de/event/10-ball-lk-a-damen-2/
LOCATION:1. PBC Bad Wildungen Vereinsheim\, Zum Roten Berg 4\, Bad Wildungen\, Hessen\, 34537\, Deutschland
CATEGORIES:LK-A
ATTACH;FMTTYPE=image/png:https://poolsharks-ortenberg.de/wp-content/uploads/2022/09/HPBV_LK-A_10-Ball_1280x640.png
ORGANIZER;CN="HPBV e.V.":MAILTO:info@hpbv.de
END:VEVENT
BEGIN:VEVENT
DTSTART;TZID=Europe/Berlin:20240407T110000
DTEND;TZID=Europe/Berlin:20240407T190000
DTSTAMP:20260421T162429
CREATED:20230825T204959Z
LAST-MODIFIED:20230825T204959Z
UID:2789-1712487600-1712516400@poolsharks-ortenberg.de
SUMMARY:10-Ball - LK-A - Ladies
DESCRIPTION:10-Ball – LK-A – Ladies
URL:https://poolsharks-ortenberg.de/event/10-ball-lk-a-ladies-2/
LOCATION:1. PBC Bad Wildungen Vereinsheim\, Zum Roten Berg 4\, Bad Wildungen\, Hessen\, 34537\, Deutschland
CATEGORIES:LK-A
ATTACH;FMTTYPE=image/png:https://poolsharks-ortenberg.de/wp-content/uploads/2022/09/HPBV_LK-A_10-Ball_1280x640.png
ORGANIZER;CN="HPBV e.V.":MAILTO:info@hpbv.de
END:VEVENT
BEGIN:VEVENT
DTSTART;TZID=Europe/Berlin:20240324T110000
DTEND;TZID=Europe/Berlin:20240324T190000
DTSTAMP:20260421T162429
CREATED:20230825T204918Z
LAST-MODIFIED:20230825T204918Z
UID:2787-1711278000-1711306800@poolsharks-ortenberg.de
SUMMARY:9-Ball - LK-A - Herren
DESCRIPTION:9-Ball – LK-A – Herren
URL:https://poolsharks-ortenberg.de/event/9-ball-lk-a-herren-2/
LOCATION:BV Kahl Vereinsheim\, Hanauerlandstraße 105\, Kahl a. Main\, Hessen\, 63796\, Germany
CATEGORIES:LK-A
ATTACH;FMTTYPE=image/png:https://poolsharks-ortenberg.de/wp-content/uploads/2022/09/HPBV_LK-A_9-Ball_1280x640.png
ORGANIZER;CN="HPBV e.V.":MAILTO:info@hpbv.de
END:VEVENT
BEGIN:VEVENT
DTSTART;TZID=Europe/Berlin:20240324T110000
DTEND;TZID=Europe/Berlin:20240324T190000
DTSTAMP:20260421T162429
CREATED:20230825T204217Z
LAST-MODIFIED:20230825T204217Z
UID:2785-1711278000-1711306800@poolsharks-ortenberg.de
SUMMARY:9-Ball - LK-A - Ladies
DESCRIPTION:9-Ball – LK-A – Ladies
URL:https://poolsharks-ortenberg.de/event/9-ball-lk-a-ladies-2/
LOCATION:BSC 96 Dill-Katzenfurt Vereinsheim\, Dünnackerstraße 22\, Ehringshausen - Katzenfurt\, Hessen\, 35630\, Deutschland
CATEGORIES:LK-A
ATTACH;FMTTYPE=image/png:https://poolsharks-ortenberg.de/wp-content/uploads/2022/09/HPBV_LK-A_9-Ball_1280x640.png
ORGANIZER;CN="HPBV e.V.":MAILTO:info@hpbv.de
END:VEVENT
BEGIN:VEVENT
DTSTART;TZID=Europe/Berlin:20240324T110000
DTEND;TZID=Europe/Berlin:20240324T190000
DTSTAMP:20260421T162429
CREATED:20230825T204101Z
LAST-MODIFIED:20230825T204101Z
UID:2786-1711278000-1711306800@poolsharks-ortenberg.de
SUMMARY:9-Ball - LK-A - Senioren
DESCRIPTION:9-Ball – LK-A – Senioren
URL:https://poolsharks-ortenberg.de/event/9-ball-lk-a-senioren-2/
LOCATION:Billard Union Kassel Vereinsheim\, Wener-Heisenberg-Str. 15\, Kassel\, Hessen\, 34123\, Deutschland
CATEGORIES:LK-A
ATTACH;FMTTYPE=image/png:https://poolsharks-ortenberg.de/wp-content/uploads/2022/09/HPBV_LK-A_9-Ball_1280x640.png
ORGANIZER;CN="HPBV e.V.":MAILTO:info@hpbv.de
END:VEVENT
BEGIN:VEVENT
DTSTART;TZID=Europe/Berlin:20240324T110000
DTEND;TZID=Europe/Berlin:20240324T190000
DTSTAMP:20260421T162429
CREATED:20230825T204026Z
LAST-MODIFIED:20230825T204026Z
UID:2784-1711278000-1711306800@poolsharks-ortenberg.de
SUMMARY:9-Ball - LK-A - Damen
DESCRIPTION:9-Ball – LK-A – Damen
URL:https://poolsharks-ortenberg.de/event/9-ball-lk-a-damen-2/
LOCATION:BSC 96 Dill-Katzenfurt Vereinsheim\, Dünnackerstraße 22\, Ehringshausen - Katzenfurt\, Hessen\, 35630\, Deutschland
CATEGORIES:LK-A
ATTACH;FMTTYPE=image/png:https://poolsharks-ortenberg.de/wp-content/uploads/2022/09/HPBV_LK-A_9-Ball_1280x640.png
ORGANIZER;CN="HPBV e.V.":MAILTO:info@hpbv.de
END:VEVENT
BEGIN:VEVENT
DTSTART;TZID=Europe/Berlin:20240323T110000
DTEND;TZID=Europe/Berlin:20240323T190000
DTSTAMP:20260421T162430
CREATED:20230825T203907Z
LAST-MODIFIED:20230825T203907Z
UID:2783-1711191600-1711220400@poolsharks-ortenberg.de
SUMMARY:3. Hessencup Jugend Pool
DESCRIPTION:3. Hessencup Jugend Pool
URL:https://poolsharks-ortenberg.de/event/3-hessencup-jugend-pool/
LOCATION:PBC Gelnhausen Vereinsheim\, Zum Wartturm 5\, Gelnhausen\, Hessen\, 63571\, Germany
CATEGORIES:Hessencup
ORGANIZER;CN="HPBV e.V.":MAILTO:info@hpbv.de
END:VEVENT
BEGIN:VEVENT
DTSTART;TZID=Europe/Berlin:20240316T160000
DTEND;TZID=Europe/Berlin:20240316T210000
DTSTAMP:20260421T162430
CREATED:20230820T200654Z
LAST-MODIFIED:20230820T200654Z
UID:2647-1710604800-1710622800@poolsharks-ortenberg.de
SUMMARY:1. PBC Giessen 1986 e.V. 4 - PBC Pool Sharks Ortenberg 2
DESCRIPTION:Bezirksliga 12. Spt. – 1. PBC Giessen 1986 e.V. 4 – PBC Pool Sharks Ortenberg 2
URL:https://poolsharks-ortenberg.de/event/1-pbc-giessen-1986-e-v-4-pbc-pool-sharks-ortenberg-2/
LOCATION:Straight Pool Gießen\, Grünberger Straße 140\, Gießen\, Hessen\, 35394\, Deutschland
CATEGORIES:Bezirksliga
ATTACH;FMTTYPE=image/png:https://poolsharks-ortenberg.de/wp-content/uploads/2022/09/HPBV_Bezirksliga_1280x640.png
ORGANIZER;CN="HPBV e.V.":MAILTO:info@hpbv.de
END:VEVENT
BEGIN:VEVENT
DTSTART;TZID=Europe/Berlin:20240316T110000
DTEND;TZID=Europe/Berlin:20240316T160000
DTSTAMP:20260421T162430
CREATED:20230820T202536Z
LAST-MODIFIED:20230820T202536Z
UID:2663-1710586800-1710604800@poolsharks-ortenberg.de
SUMMARY:Billardverein Kahl a. Main e.V. 1 - PBC Pool Sharks Ortenberg 1
DESCRIPTION:Oberliga 12. Spt. – Billardverein Kahl a. Main e.V. 1 – PBC Pool Sharks Ortenberg 1
URL:https://poolsharks-ortenberg.de/event/billardverein-kahl-a-main-e-v-1-pbc-pool-sharks-ortenberg-1/
LOCATION:BV Kahl Vereinsheim\, Hanauerlandstraße 105\, Kahl a. Main\, Hessen\, 63796\, Germany
CATEGORIES:Oberliga
ATTACH;FMTTYPE=image/png:https://poolsharks-ortenberg.de/wp-content/uploads/2022/09/HPBV_Oberliga_1280x640.png
ORGANIZER;CN="HPBV e.V.":MAILTO:info@hpbv.de
END:VEVENT
BEGIN:VEVENT
DTSTART;TZID=Europe/Berlin:20240302T160000
DTEND;TZID=Europe/Berlin:20240302T210000
DTSTAMP:20260421T162430
CREATED:20230820T200537Z
LAST-MODIFIED:20230820T200537Z
UID:2646-1709395200-1709413200@poolsharks-ortenberg.de
SUMMARY:SG Johannesberg 4 - PBC Pool Sharks Ortenberg 2
DESCRIPTION:Bezirksliga 11. Spt. – SG Johannesberg 4 – PBC Pool Sharks Ortenberg 2
URL:https://poolsharks-ortenberg.de/event/sg-johannesberg-4-pbc-pool-sharks-ortenberg-2/
LOCATION:Sportzentrum Johannesberg\, Agricolastr. 8\, Fulda-Johannesberg\, Hessen\, 36041\, Deutschland
CATEGORIES:Bezirksliga
ATTACH;FMTTYPE=image/png:https://poolsharks-ortenberg.de/wp-content/uploads/2022/09/HPBV_Bezirksliga_1280x640.png
ORGANIZER;CN="HPBV e.V.":MAILTO:info@hpbv.de
END:VEVENT
BEGIN:VEVENT
DTSTART;TZID=Europe/Berlin:20240302T110000
DTEND;TZID=Europe/Berlin:20240302T160000
DTSTAMP:20260421T162430
CREATED:20230820T202437Z
LAST-MODIFIED:20230820T202437Z
UID:2662-1709377200-1709395200@poolsharks-ortenberg.de
SUMMARY:PBC Dreieich-Sprendlingen 1 - PBC Pool Sharks Ortenberg 1
DESCRIPTION:Oberliga 11. Spt. – PBC Dreieich-Sprendlingen 1 – PBC Pool Sharks Ortenberg 1
URL:https://poolsharks-ortenberg.de/event/pbc-dreieich-sprendlingen-1-pbc-pool-sharks-ortenberg-1/
LOCATION:PBC Dreieich-Sprendlingen Vereinsheim\, Eisenbahnstraße 102\, Dreieich-Sprendlingen\, Hessen\, 63303\, Germany
CATEGORIES:Oberliga
ATTACH;FMTTYPE=image/png:https://poolsharks-ortenberg.de/wp-content/uploads/2022/09/HPBV_Oberliga_1280x640.png
ORGANIZER;CN="HPBV e.V.":MAILTO:info@hpbv.de
END:VEVENT
BEGIN:VEVENT
DTSTART;TZID=Europe/Berlin:20240225T110000
DTEND;TZID=Europe/Berlin:20240225T190000
DTSTAMP:20260421T162430
CREATED:20230825T203807Z
LAST-MODIFIED:20230825T203807Z
UID:2782-1708858800-1708887600@poolsharks-ortenberg.de
SUMMARY:8-Ball - LK-A - Herren
DESCRIPTION:8-Ball – LK-A – Herren
URL:https://poolsharks-ortenberg.de/event/8-ball-lk-a-herren-2/
LOCATION:BV Mörfelden-Walldorf Vereinsheim\, Am Berg 36\, Mörfelden-Walldorf\, Hessen\, 64546\, Deutschland
CATEGORIES:LK-A
ATTACH;FMTTYPE=image/png:https://poolsharks-ortenberg.de/wp-content/uploads/2022/09/HPBV_LK-A_8-Ball_1280x640.png
ORGANIZER;CN="HPBV e.V.":MAILTO:info@hpbv.de
END:VEVENT
BEGIN:VEVENT
DTSTART;TZID=Europe/Berlin:20240225T110000
DTEND;TZID=Europe/Berlin:20240225T190000
DTSTAMP:20260421T162430
CREATED:20230825T203709Z
LAST-MODIFIED:20230825T203709Z
UID:2780-1708858800-1708887600@poolsharks-ortenberg.de
SUMMARY:8-Ball - LK-A - Ladies
DESCRIPTION:8-Ball – LK-A – Ladies
URL:https://poolsharks-ortenberg.de/event/8-ball-lk-a-ladies-2/
LOCATION:Straight Pool Gießen\, Grünberger Straße 140\, Gießen\, Hessen\, 35394\, Deutschland
CATEGORIES:LK-A
ATTACH;FMTTYPE=image/png:https://poolsharks-ortenberg.de/wp-content/uploads/2022/09/HPBV_LK-A_8-Ball_1280x640.png
ORGANIZER;CN="HPBV e.V.":MAILTO:info@hpbv.de
END:VEVENT
BEGIN:VEVENT
DTSTART;TZID=Europe/Berlin:20240225T110000
DTEND;TZID=Europe/Berlin:20240225T190000
DTSTAMP:20260421T162430
CREATED:20230825T203621Z
LAST-MODIFIED:20240213T075127Z
UID:2781-1708858800-1708887600@poolsharks-ortenberg.de
SUMMARY:8-Ball - LK-A - Senioren
DESCRIPTION:8-Ball – LK-A – Senioren \nTeilnehmer\, Spielplan und Live-Score unter: HPBV 8-Ball LK-A Senioren PBC Ortenberg (cuescore.com)
URL:https://poolsharks-ortenberg.de/event/8-ball-lk-a-senioren-2/
LOCATION:Vereinsheim Poolsharks Ortenberg\, Neue Straße 2\, Ortenberg - Gelnhaar\, Hessen\, 63683\, Deutschland
CATEGORIES:LK-A
ATTACH;FMTTYPE=image/png:https://poolsharks-ortenberg.de/wp-content/uploads/2022/09/HPBV_LK-A_8-Ball_1280x640.png
ORGANIZER;CN="HPBV e.V.":MAILTO:info@hpbv.de
END:VEVENT
BEGIN:VEVENT
DTSTART;TZID=Europe/Berlin:20240225T110000
DTEND;TZID=Europe/Berlin:20240225T190000
DTSTAMP:20260421T162430
CREATED:20230825T203543Z
LAST-MODIFIED:20230825T203543Z
UID:2779-1708858800-1708887600@poolsharks-ortenberg.de
SUMMARY:8-Ball - LK-A - Damen
DESCRIPTION:8-Ball – LK-A – Damen
URL:https://poolsharks-ortenberg.de/event/8-ball-lk-a-damen-2/
LOCATION:Straight Pool Gießen\, Grünberger Straße 140\, Gießen\, Hessen\, 35394\, Deutschland
CATEGORIES:LK-A
ATTACH;FMTTYPE=image/png:https://poolsharks-ortenberg.de/wp-content/uploads/2022/09/HPBV_LK-A_8-Ball_1280x640.png
ORGANIZER;CN="HPBV e.V.":MAILTO:info@hpbv.de
END:VEVENT
BEGIN:VEVENT
DTSTART;TZID=Europe/Berlin:20240224T110000
DTEND;TZID=Europe/Berlin:20240224T190000
DTSTAMP:20260421T162430
CREATED:20230825T112002Z
LAST-MODIFIED:20230825T112003Z
UID:2778-1708772400-1708801200@poolsharks-ortenberg.de
SUMMARY:Senioren Kombi Mannschaft Pool
DESCRIPTION:Senioren Kombi Mannschaft Pool
URL:https://poolsharks-ortenberg.de/event/senioren-kombi-mannschaft-pool/
LOCATION:Vereinsheim Poolsharks Ortenberg\, Neue Straße 2\, Ortenberg - Gelnhaar\, Hessen\, 63683\, Deutschland
CATEGORIES:Kombi Mannschaft
ORGANIZER;CN="HPBV e.V.":MAILTO:info@hpbv.de
END:VEVENT
BEGIN:VEVENT
DTSTART;TZID=Europe/Berlin:20240217T160000
DTEND;TZID=Europe/Berlin:20240217T210000
DTSTAMP:20260421T162430
CREATED:20230820T200414Z
LAST-MODIFIED:20230906T082727Z
UID:2645-1708185600-1708203600@poolsharks-ortenberg.de
SUMMARY:PBC Pool Sharks Ortenberg 2 - Pool Devils Neu Anspach 2
DESCRIPTION:Bezirksliga 10. Spt. – PBC Pool Sharks Ortenberg 2 – Pool Devils Neu Anspach 2
URL:https://poolsharks-ortenberg.de/event/pbc-pool-sharks-ortenberg-2-pool-devils-neu-anspach-2/
LOCATION:Vereinsheim Poolsharks Ortenberg\, Neue Straße 2\, Ortenberg - Gelnhaar\, Hessen\, 63683\, Deutschland
CATEGORIES:Bezirksliga
ATTACH;FMTTYPE=image/png:https://poolsharks-ortenberg.de/wp-content/uploads/2022/09/HPBV_Bezirksliga_1280x640.png
ORGANIZER;CN="HPBV e.V.":MAILTO:info@hpbv.de
END:VEVENT
BEGIN:VEVENT
DTSTART;TZID=Europe/Berlin:20240217T110000
DTEND;TZID=Europe/Berlin:20240217T160000
DTSTAMP:20260421T162430
CREATED:20230820T202052Z
LAST-MODIFIED:20230915T195440Z
UID:2661-1708167600-1708185600@poolsharks-ortenberg.de
SUMMARY:PBC Pool Sharks Ortenberg 1 - BV Mörfelden-Walldorf 2
DESCRIPTION:Oberliga 10. Spt. – PBC Pool Sharks Ortenberg 1 – BV Mörfelden-Walldorf 2
URL:https://poolsharks-ortenberg.de/event/pbc-pool-sharks-ortenberg-1-bv-moerfelden-walldorf-2-2/
LOCATION:BV Mörfelden-Walldorf Vereinsheim\, Am Berg 36\, Mörfelden-Walldorf\, Hessen\, 64546\, Deutschland
CATEGORIES:Oberliga
ATTACH;FMTTYPE=image/png:https://poolsharks-ortenberg.de/wp-content/uploads/2022/09/HPBV_Oberliga_1280x640.png
ORGANIZER;CN="HPBV e.V.":MAILTO:info@hpbv.de
END:VEVENT
BEGIN:VEVENT
DTSTART;TZID=Europe/Berlin:20240211T110000
DTEND;TZID=Europe/Berlin:20240211T190000
DTSTAMP:20260421T162430
CREATED:20230825T203419Z
LAST-MODIFIED:20230825T203419Z
UID:2777-1707649200-1707678000@poolsharks-ortenberg.de
SUMMARY:14.1 - LK-B - Herren (Eberstadt)
DESCRIPTION:14.1 – LK-B – Herren (Eberstadt)
URL:https://poolsharks-ortenberg.de/event/14-1-lk-b-herren-eberstadt/
LOCATION:Billard Pallace Dieburg\, Markt 22\, Eberstadt\, Hessen\, 64807\, Deutschland
CATEGORIES:LK-B
ATTACH;FMTTYPE=image/png:https://poolsharks-ortenberg.de/wp-content/uploads/2022/09/HPBV_LK-B_14.1e_1280x640.png
ORGANIZER;CN="HPBV e.V.":MAILTO:info@hpbv.de
END:VEVENT
BEGIN:VEVENT
DTSTART;TZID=Europe/Berlin:20240211T110000
DTEND;TZID=Europe/Berlin:20240211T190000
DTSTAMP:20260421T162430
CREATED:20230825T203323Z
LAST-MODIFIED:20230825T203323Z
UID:2776-1707649200-1707678000@poolsharks-ortenberg.de
SUMMARY:14.1 - LK-B - Herren (Gießen)
DESCRIPTION:14.1 – LK-B – Herren (Gießen)
URL:https://poolsharks-ortenberg.de/event/14-1-lk-b-herren-giessen/
LOCATION:Straight Pool Gießen\, Grünberger Straße 140\, Gießen\, Hessen\, 35394\, Deutschland
CATEGORIES:LK-B
ATTACH;FMTTYPE=image/png:https://poolsharks-ortenberg.de/wp-content/uploads/2022/09/HPBV_LK-B_14.1e_1280x640.png
ORGANIZER;CN="HPBV e.V.":MAILTO:info@hpbv.de
END:VEVENT
BEGIN:VEVENT
DTSTART;TZID=Europe/Berlin:20240211T110000
DTEND;TZID=Europe/Berlin:20240211T190000
DTSTAMP:20260421T162430
CREATED:20230825T202659Z
LAST-MODIFIED:20230825T202659Z
UID:2775-1707649200-1707678000@poolsharks-ortenberg.de
SUMMARY:14.1 - LK-B - Senioren
DESCRIPTION:14.1 – LK-B – Senioren
URL:https://poolsharks-ortenberg.de/event/14-1-lk-b-senioren-2/
LOCATION:BV Mörfelden-Walldorf Vereinsheim\, Am Berg 36\, Mörfelden-Walldorf\, Hessen\, 64546\, Deutschland
CATEGORIES:LK-B
ATTACH;FMTTYPE=image/png:https://poolsharks-ortenberg.de/wp-content/uploads/2022/09/HPBV_LK-B_14.1e_1280x640.png
ORGANIZER;CN="HPBV e.V.":MAILTO:info@hpbv.de
END:VEVENT
BEGIN:VEVENT
DTSTART;TZID=Europe/Berlin:20240210T110000
DTEND;TZID=Europe/Berlin:20240210T190000
DTSTAMP:20260421T162430
CREATED:20230825T112257Z
LAST-MODIFIED:20240131T170648Z
UID:2774-1707562800-1707591600@poolsharks-ortenberg.de
SUMMARY:Offene Hessenmeisterschaft 8-Ball Doppel
DESCRIPTION:Offene Hessenmeisterschaft 8-Ball Doppel \nTeilnehmerliste + Anmeldung und Live-Score unter CueScore -> HPBV Offene HM Doppel 8-Ball PBC Ortenberg (cuescore.com) \nWer nicht vorbei kommen kann schaut sich einfach den Stream in unserem Youtube-Kanal an -> @poolsharksortenberg537
URL:https://poolsharks-ortenberg.de/event/hessenmeisterschaft-8-ball-doppel/
LOCATION:Vereinsheim Poolsharks Ortenberg\, Neue Straße 2\, Ortenberg - Gelnhaar\, Hessen\, 63683\, Deutschland
CATEGORIES:HM Doppel
ORGANIZER;CN="HPBV e.V.":MAILTO:info@hpbv.de
END:VEVENT
BEGIN:VEVENT
DTSTART;TZID=Europe/Berlin:20240203T160000
DTEND;TZID=Europe/Berlin:20240203T210000
DTSTAMP:20260421T162430
CREATED:20230820T200305Z
LAST-MODIFIED:20230820T200306Z
UID:2644-1706976000-1706994000@poolsharks-ortenberg.de
SUMMARY:PBC Pool Sharks Ortenberg 2 - PBC Ronshausen 3
DESCRIPTION:Bezirksliga 9. Spt. – PBC Pool Sharks Ortenberg 2 – PBC Ronshausen 3
URL:https://poolsharks-ortenberg.de/event/pbc-pool-sharks-ortenberg-2-pbc-ronshausen-3/
LOCATION:Vereinsheim Poolsharks Ortenberg\, Neue Straße 2\, Ortenberg - Gelnhaar\, Hessen\, 63683\, Deutschland
CATEGORIES:Bezirksliga
ATTACH;FMTTYPE=image/png:https://poolsharks-ortenberg.de/wp-content/uploads/2022/09/HPBV_Bezirksliga_1280x640.png
ORGANIZER;CN="HPBV e.V.":MAILTO:info@hpbv.de
END:VEVENT
BEGIN:VEVENT
DTSTART;TZID=Europe/Berlin:20240203T110000
DTEND;TZID=Europe/Berlin:20240203T160000
DTSTAMP:20260421T162430
CREATED:20230820T202011Z
LAST-MODIFIED:20230820T202011Z
UID:2660-1706958000-1706976000@poolsharks-ortenberg.de
SUMMARY:Billard Bianco Dieburg e.V. 1 - PBC Pool Sharks Ortenberg 1
DESCRIPTION:Oberliga 9. Spt. – Billard Bianco Dieburg e.V. 1 – PBC Pool Sharks Ortenberg 1
URL:https://poolsharks-ortenberg.de/event/billard-bianco-dieburg-e-v-1-pbc-pool-sharks-ortenberg-1/
LOCATION:Billard Pallace Dieburg\, Markt 22\, Eberstadt\, Hessen\, 64807\, Deutschland
CATEGORIES:Oberliga
ATTACH;FMTTYPE=image/png:https://poolsharks-ortenberg.de/wp-content/uploads/2022/09/HPBV_Oberliga_1280x640.png
ORGANIZER;CN="HPBV e.V.":MAILTO:info@hpbv.de
END:VEVENT
BEGIN:VEVENT
DTSTART;TZID=Europe/Berlin:20240128T110000
DTEND;TZID=Europe/Berlin:20240128T190000
DTSTAMP:20260421T162430
CREATED:20230825T202602Z
LAST-MODIFIED:20230825T202602Z
UID:2773-1706439600-1706468400@poolsharks-ortenberg.de
SUMMARY:Hessenmeisterschaft Jugend Pool
DESCRIPTION:Hessenmeisterschaft Jugend Pool
URL:https://poolsharks-ortenberg.de/event/hessenmeisterschaft-jugend-pool-2/
LOCATION:Billard Union Kassel Vereinsheim\, Wener-Heisenberg-Str. 15\, Kassel\, Hessen\, 34123\, Deutschland
CATEGORIES:HM Jugend
ORGANIZER;CN="HPBV e.V.":MAILTO:info@hpbv.de
END:VEVENT
BEGIN:VEVENT
DTSTART;TZID=Europe/Berlin:20240127T110000
DTEND;TZID=Europe/Berlin:20240127T190000
DTSTAMP:20260421T162430
CREATED:20230825T202510Z
LAST-MODIFIED:20230825T202510Z
UID:2772-1706353200-1706382000@poolsharks-ortenberg.de
SUMMARY:Hessenmeisterschaft Jugend Pool
DESCRIPTION:Hessenmeisterschaft Jugend Pool
URL:https://poolsharks-ortenberg.de/event/hessenmeisterschaft-jugend-pool/
LOCATION:Billard Union Kassel Vereinsheim\, Wener-Heisenberg-Str. 15\, Kassel\, Hessen\, 34123\, Deutschland
CATEGORIES:HM Jugend
ORGANIZER;CN="HPBV e.V.":MAILTO:info@hpbv.de
END:VEVENT
BEGIN:VEVENT
DTSTART;TZID=Europe/Berlin:20240121T110000
DTEND;TZID=Europe/Berlin:20240121T190000
DTSTAMP:20260421T162430
CREATED:20230825T111824Z
LAST-MODIFIED:20230825T111824Z
UID:2770-1705834800-1705863600@poolsharks-ortenberg.de
SUMMARY:10-Ball - LK-B - Herren (Gießen)
DESCRIPTION:10-Ball – LK-B – Herren (Gießen)
URL:https://poolsharks-ortenberg.de/event/10-ball-lk-b-herren-giessen/
LOCATION:Straight Pool Gießen\, Grünberger Straße 140\, Gießen\, Hessen\, 35394\, Deutschland
CATEGORIES:LK-B
ATTACH;FMTTYPE=image/png:https://poolsharks-ortenberg.de/wp-content/uploads/2022/09/HPBV_LK-B_10-Ball_1280x640.png
ORGANIZER;CN="HPBV e.V.":MAILTO:info@hpbv.de
END:VEVENT
BEGIN:VEVENT
DTSTART;TZID=Europe/Berlin:20240121T110000
DTEND;TZID=Europe/Berlin:20240121T190000
DTSTAMP:20260421T162430
CREATED:20230825T111743Z
LAST-MODIFIED:20230825T111743Z
UID:2771-1705834800-1705863600@poolsharks-ortenberg.de
SUMMARY:10-Ball - LK-B - Herren (Limburg)
DESCRIPTION:10-Ball – LK-B – Herren (Limburg)
URL:https://poolsharks-ortenberg.de/event/10-ball-lk-b-herren-limburg/
LOCATION:PBV Limburg Vereinsheim\, Gymnasiumstraße 11\, Hadamar\, Hessen\, 65589\, Deutschland
CATEGORIES:LK-B
ATTACH;FMTTYPE=image/png:https://poolsharks-ortenberg.de/wp-content/uploads/2022/09/HPBV_LK-B_10-Ball_1280x640.png
ORGANIZER;CN="HPBV e.V.":MAILTO:info@hpbv.de
END:VEVENT
END:VCALENDAR