BEGIN:VCALENDAR
VERSION:2.0
PRODID:-//PBC Poolsharks Ortenberg e.V. - ECPv6.15.17.1//NONSGML v1.0//EN
CALSCALE:GREGORIAN
METHOD:PUBLISH
X-ORIGINAL-URL:https://poolsharks-ortenberg.de
X-WR-CALDESC:Veranstaltungen für PBC Poolsharks Ortenberg e.V.
REFRESH-INTERVAL;VALUE=DURATION:PT1H
X-Robots-Tag:noindex
X-PUBLISHED-TTL:PT1H
BEGIN:VTIMEZONE
TZID:Europe/Berlin
BEGIN:DAYLIGHT
TZOFFSETFROM:+0100
TZOFFSETTO:+0200
TZNAME:CEST
DTSTART:20220327T010000
END:DAYLIGHT
BEGIN:STANDARD
TZOFFSETFROM:+0200
TZOFFSETTO:+0100
TZNAME:CET
DTSTART:20221030T010000
END:STANDARD
BEGIN:DAYLIGHT
TZOFFSETFROM:+0100
TZOFFSETTO:+0200
TZNAME:CEST
DTSTART:20230326T010000
END:DAYLIGHT
BEGIN:STANDARD
TZOFFSETFROM:+0200
TZOFFSETTO:+0100
TZNAME:CET
DTSTART:20231029T010000
END:STANDARD
BEGIN:DAYLIGHT
TZOFFSETFROM:+0100
TZOFFSETTO:+0200
TZNAME:CEST
DTSTART:20240331T010000
END:DAYLIGHT
BEGIN:STANDARD
TZOFFSETFROM:+0200
TZOFFSETTO:+0100
TZNAME:CET
DTSTART:20241027T010000
END:STANDARD
BEGIN:DAYLIGHT
TZOFFSETFROM:+0100
TZOFFSETTO:+0200
TZNAME:CEST
DTSTART:20250330T010000
END:DAYLIGHT
BEGIN:STANDARD
TZOFFSETFROM:+0200
TZOFFSETTO:+0100
TZNAME:CET
DTSTART:20251026T010000
END:STANDARD
END:VTIMEZONE
BEGIN:VEVENT
DTSTART;TZID=Europe/Berlin:20240203T160000
DTEND;TZID=Europe/Berlin:20240203T210000
DTSTAMP:20260421T184423
CREATED:20230820T200305Z
LAST-MODIFIED:20230820T200306Z
UID:2644-1706976000-1706994000@poolsharks-ortenberg.de
SUMMARY:PBC Pool Sharks Ortenberg 2 - PBC Ronshausen 3
DESCRIPTION:Bezirksliga 9. Spt. – PBC Pool Sharks Ortenberg 2 – PBC Ronshausen 3
URL:https://poolsharks-ortenberg.de/event/pbc-pool-sharks-ortenberg-2-pbc-ronshausen-3/
LOCATION:Vereinsheim Poolsharks Ortenberg\, Neue Straße 2\, Ortenberg - Gelnhaar\, Hessen\, 63683\, Deutschland
CATEGORIES:Bezirksliga
ATTACH;FMTTYPE=image/png:https://poolsharks-ortenberg.de/wp-content/uploads/2022/09/HPBV_Bezirksliga_1280x640.png
ORGANIZER;CN="HPBV e.V.":MAILTO:info@hpbv.de
END:VEVENT
BEGIN:VEVENT
DTSTART;TZID=Europe/Berlin:20240203T110000
DTEND;TZID=Europe/Berlin:20240203T160000
DTSTAMP:20260421T184423
CREATED:20230820T202011Z
LAST-MODIFIED:20230820T202011Z
UID:2660-1706958000-1706976000@poolsharks-ortenberg.de
SUMMARY:Billard Bianco Dieburg e.V. 1 - PBC Pool Sharks Ortenberg 1
DESCRIPTION:Oberliga 9. Spt. – Billard Bianco Dieburg e.V. 1 – PBC Pool Sharks Ortenberg 1
URL:https://poolsharks-ortenberg.de/event/billard-bianco-dieburg-e-v-1-pbc-pool-sharks-ortenberg-1/
LOCATION:Billard Pallace Dieburg\, Markt 22\, Eberstadt\, Hessen\, 64807\, Deutschland
CATEGORIES:Oberliga
ATTACH;FMTTYPE=image/png:https://poolsharks-ortenberg.de/wp-content/uploads/2022/09/HPBV_Oberliga_1280x640.png
ORGANIZER;CN="HPBV e.V.":MAILTO:info@hpbv.de
END:VEVENT
BEGIN:VEVENT
DTSTART;TZID=Europe/Berlin:20240128T110000
DTEND;TZID=Europe/Berlin:20240128T190000
DTSTAMP:20260421T184423
CREATED:20230825T202602Z
LAST-MODIFIED:20230825T202602Z
UID:2773-1706439600-1706468400@poolsharks-ortenberg.de
SUMMARY:Hessenmeisterschaft Jugend Pool
DESCRIPTION:Hessenmeisterschaft Jugend Pool
URL:https://poolsharks-ortenberg.de/event/hessenmeisterschaft-jugend-pool-2/
LOCATION:Billard Union Kassel Vereinsheim\, Wener-Heisenberg-Str. 15\, Kassel\, Hessen\, 34123\, Deutschland
CATEGORIES:HM Jugend
ORGANIZER;CN="HPBV e.V.":MAILTO:info@hpbv.de
END:VEVENT
BEGIN:VEVENT
DTSTART;TZID=Europe/Berlin:20240127T110000
DTEND;TZID=Europe/Berlin:20240127T190000
DTSTAMP:20260421T184423
CREATED:20230825T202510Z
LAST-MODIFIED:20230825T202510Z
UID:2772-1706353200-1706382000@poolsharks-ortenberg.de
SUMMARY:Hessenmeisterschaft Jugend Pool
DESCRIPTION:Hessenmeisterschaft Jugend Pool
URL:https://poolsharks-ortenberg.de/event/hessenmeisterschaft-jugend-pool/
LOCATION:Billard Union Kassel Vereinsheim\, Wener-Heisenberg-Str. 15\, Kassel\, Hessen\, 34123\, Deutschland
CATEGORIES:HM Jugend
ORGANIZER;CN="HPBV e.V.":MAILTO:info@hpbv.de
END:VEVENT
BEGIN:VEVENT
DTSTART;TZID=Europe/Berlin:20240121T110000
DTEND;TZID=Europe/Berlin:20240121T190000
DTSTAMP:20260421T184423
CREATED:20230825T111824Z
LAST-MODIFIED:20230825T111824Z
UID:2770-1705834800-1705863600@poolsharks-ortenberg.de
SUMMARY:10-Ball - LK-B - Herren (Gießen)
DESCRIPTION:10-Ball – LK-B – Herren (Gießen)
URL:https://poolsharks-ortenberg.de/event/10-ball-lk-b-herren-giessen/
LOCATION:Straight Pool Gießen\, Grünberger Straße 140\, Gießen\, Hessen\, 35394\, Deutschland
CATEGORIES:LK-B
ATTACH;FMTTYPE=image/png:https://poolsharks-ortenberg.de/wp-content/uploads/2022/09/HPBV_LK-B_10-Ball_1280x640.png
ORGANIZER;CN="HPBV e.V.":MAILTO:info@hpbv.de
END:VEVENT
BEGIN:VEVENT
DTSTART;TZID=Europe/Berlin:20240121T110000
DTEND;TZID=Europe/Berlin:20240121T190000
DTSTAMP:20260421T184424
CREATED:20230825T111743Z
LAST-MODIFIED:20230825T111743Z
UID:2771-1705834800-1705863600@poolsharks-ortenberg.de
SUMMARY:10-Ball - LK-B - Herren (Limburg)
DESCRIPTION:10-Ball – LK-B – Herren (Limburg)
URL:https://poolsharks-ortenberg.de/event/10-ball-lk-b-herren-limburg/
LOCATION:PBV Limburg Vereinsheim\, Gymnasiumstraße 11\, Hadamar\, Hessen\, 65589\, Deutschland
CATEGORIES:LK-B
ATTACH;FMTTYPE=image/png:https://poolsharks-ortenberg.de/wp-content/uploads/2022/09/HPBV_LK-B_10-Ball_1280x640.png
ORGANIZER;CN="HPBV e.V.":MAILTO:info@hpbv.de
END:VEVENT
BEGIN:VEVENT
DTSTART;TZID=Europe/Berlin:20240121T110000
DTEND;TZID=Europe/Berlin:20240121T190000
DTSTAMP:20260421T184424
CREATED:20230825T111655Z
LAST-MODIFIED:20230825T111655Z
UID:2769-1705834800-1705863600@poolsharks-ortenberg.de
SUMMARY:10-Ball - LK-B - Senioren
DESCRIPTION:10-Ball – LK-B – Senioren
URL:https://poolsharks-ortenberg.de/event/10-ball-lk-b-senioren-2/
LOCATION:PBC Gelnhausen Vereinsheim\, Zum Wartturm 5\, Gelnhausen\, Hessen\, 63571\, Germany
CATEGORIES:LK-B
ATTACH;FMTTYPE=image/png:https://poolsharks-ortenberg.de/wp-content/uploads/2022/09/HPBV_LK-B_10-Ball_1280x640.png
ORGANIZER;CN="HPBV e.V.":MAILTO:info@hpbv.de
END:VEVENT
BEGIN:VEVENT
DTSTART;TZID=Europe/Berlin:20240120T160000
DTEND;TZID=Europe/Berlin:20240120T210000
DTSTAMP:20260421T184424
CREATED:20230820T200108Z
LAST-MODIFIED:20230820T200108Z
UID:2643-1705766400-1705784400@poolsharks-ortenberg.de
SUMMARY:1. PBC Karben 2 - PBC Pool Sharks Ortenberg 2
DESCRIPTION:Bezirksliga 8. Spt. – 1. PBC Karben 2 – PBC Pool Sharks Ortenberg 2
URL:https://poolsharks-ortenberg.de/event/1-pbc-karben-2-pbc-pool-sharks-ortenberg-2/
LOCATION:1. PBC Karben Vereinsheim\, Robert-Bosch-Straße 62\, Karben\, Hessen\, 61184\, Deutschland
CATEGORIES:Bezirksliga
ATTACH;FMTTYPE=image/png:https://poolsharks-ortenberg.de/wp-content/uploads/2022/09/HPBV_Bezirksliga_1280x640.png
ORGANIZER;CN="HPBV e.V.":MAILTO:info@hpbv.de
END:VEVENT
BEGIN:VEVENT
DTSTART;TZID=Europe/Berlin:20240120T110000
DTEND;TZID=Europe/Berlin:20240120T160000
DTSTAMP:20260421T184424
CREATED:20230820T201913Z
LAST-MODIFIED:20230820T201914Z
UID:2659-1705748400-1705766400@poolsharks-ortenberg.de
SUMMARY:PBC Pool Sharks Ortenberg 1 - Billard Verein Schierstein e.V 1
DESCRIPTION:Oberliga 8. Spt. – PBC Pool Sharks Ortenberg 1 – Billard Verein Schierstein e.V 1
URL:https://poolsharks-ortenberg.de/event/pbc-pool-sharks-ortenberg-1-billard-verein-schierstein-e-v-1/
LOCATION:Vereinsheim Poolsharks Ortenberg\, Neue Straße 2\, Ortenberg - Gelnhaar\, Hessen\, 63683\, Deutschland
CATEGORIES:Oberliga
ATTACH;FMTTYPE=image/png:https://poolsharks-ortenberg.de/wp-content/uploads/2022/09/HPBV_Oberliga_1280x640.png
ORGANIZER;CN="HPBV e.V.":MAILTO:info@hpbv.de
END:VEVENT
BEGIN:VEVENT
DTSTART;TZID=Europe/Berlin:20240106T110000
DTEND;TZID=Europe/Berlin:20240106T160000
DTSTAMP:20260421T184424
CREATED:20230820T201739Z
LAST-MODIFIED:20230820T201739Z
UID:2658-1704538800-1704556800@poolsharks-ortenberg.de
SUMMARY:SG Johannesberg 2 - PBC Pool Sharks Ortenberg 1
DESCRIPTION:Oberliga 7. Spt. – SG Johannesberg 2 – PBC Pool Sharks Ortenberg 1
URL:https://poolsharks-ortenberg.de/event/sg-johannesberg-2-pbc-pool-sharks-ortenberg-1-2/
LOCATION:Sportzentrum Johannesberg\, Agricolastr. 8\, Fulda-Johannesberg\, Hessen\, 36041\, Deutschland
CATEGORIES:Oberliga
ATTACH;FMTTYPE=image/png:https://poolsharks-ortenberg.de/wp-content/uploads/2022/09/HPBV_Oberliga_1280x640.png
ORGANIZER;CN="HPBV e.V.":MAILTO:info@hpbv.de
END:VEVENT
BEGIN:VEVENT
DTSTART;TZID=Europe/Berlin:20231216T160000
DTEND;TZID=Europe/Berlin:20231216T210000
DTSTAMP:20260421T184424
CREATED:20230820T193258Z
LAST-MODIFIED:20230820T200007Z
UID:2642-1702742400-1702760400@poolsharks-ortenberg.de
SUMMARY:PBC Pool Sharks Ortenberg 2 - Poolbillard- und Dartverein Marburg 2
DESCRIPTION:Bezirksliga 6. Spt. – PBC Pool Sharks Ortenberg 2 – Poolbillard- und Dartverein Marburg 2
URL:https://poolsharks-ortenberg.de/event/pbc-pool-sharks-ortenberg-2-poolbillard-und-dartverein-marburg-2/
LOCATION:Vereinsheim Poolsharks Ortenberg\, Neue Straße 2\, Ortenberg - Gelnhaar\, Hessen\, 63683\, Deutschland
CATEGORIES:Bezirksliga
ATTACH;FMTTYPE=image/png:https://poolsharks-ortenberg.de/wp-content/uploads/2022/09/HPBV_Bezirksliga_1280x640.png
ORGANIZER;CN="HPBV e.V.":MAILTO:info@hpbv.de
END:VEVENT
BEGIN:VEVENT
DTSTART;TZID=Europe/Berlin:20231216T110000
DTEND;TZID=Europe/Berlin:20231216T160000
DTSTAMP:20260421T184424
CREATED:20230820T201634Z
LAST-MODIFIED:20230820T201634Z
UID:2657-1702724400-1702742400@poolsharks-ortenberg.de
SUMMARY:PBC Pool Sharks Ortenberg 1 - TV 1876 e.V. Eberstadt 1
DESCRIPTION:Oberliga 6. Spt. – PBC Pool Sharks Ortenberg 1 – TV 1876 e.V. Eberstadt 1
URL:https://poolsharks-ortenberg.de/event/pbc-pool-sharks-ortenberg-1-tv-1876-e-v-eberstadt-1/
LOCATION:Vereinsheim Poolsharks Ortenberg\, Neue Straße 2\, Ortenberg - Gelnhaar\, Hessen\, 63683\, Deutschland
CATEGORIES:Oberliga
ATTACH;FMTTYPE=image/png:https://poolsharks-ortenberg.de/wp-content/uploads/2022/09/HPBV_Oberliga_1280x640.png
ORGANIZER;CN="HPBV e.V.":MAILTO:info@hpbv.de
END:VEVENT
BEGIN:VEVENT
DTSTART;TZID=Europe/Berlin:20231203T110000
DTEND;TZID=Europe/Berlin:20231203T190000
DTSTAMP:20260421T184424
CREATED:20230825T111544Z
LAST-MODIFIED:20230825T111544Z
UID:2767-1701601200-1701630000@poolsharks-ortenberg.de
SUMMARY:9-Ball - LK-B - Herren (Mörfelden)
DESCRIPTION:9-Ball – LK-B – Herren (Mörfelden)
URL:https://poolsharks-ortenberg.de/event/9-ball-lk-b-herren-moerfelden-2/
LOCATION:BV Mörfelden-Walldorf Vereinsheim\, Am Berg 36\, Mörfelden-Walldorf\, Hessen\, 64546\, Deutschland
CATEGORIES:LK-B
ATTACH;FMTTYPE=image/png:https://poolsharks-ortenberg.de/wp-content/uploads/2022/09/HPBV_LK-B_9-Ball_1280x640.png
ORGANIZER;CN="HPBV e.V.":MAILTO:info@hpbv.de
END:VEVENT
BEGIN:VEVENT
DTSTART;TZID=Europe/Berlin:20231203T110000
DTEND;TZID=Europe/Berlin:20231203T190000
DTSTAMP:20260421T184424
CREATED:20230825T111501Z
LAST-MODIFIED:20230825T111501Z
UID:2768-1701601200-1701630000@poolsharks-ortenberg.de
SUMMARY:9-Ball - LK-B - Herren (Gelnhausen)
DESCRIPTION:9-Ball – LK-B – Herren (Gelnhausen)
URL:https://poolsharks-ortenberg.de/event/9-ball-lk-b-herren-gelnhausen/
LOCATION:PBC Gelnhausen Vereinsheim\, Zum Wartturm 5\, Gelnhausen\, Hessen\, 63571\, Germany
CATEGORIES:LK-B
ATTACH;FMTTYPE=image/png:https://poolsharks-ortenberg.de/wp-content/uploads/2022/09/HPBV_LK-B_9-Ball_1280x640.png
ORGANIZER;CN="HPBV e.V.":MAILTO:info@hpbv.de
END:VEVENT
BEGIN:VEVENT
DTSTART;TZID=Europe/Berlin:20231203T110000
DTEND;TZID=Europe/Berlin:20231203T190000
DTSTAMP:20260421T184424
CREATED:20230825T111415Z
LAST-MODIFIED:20230825T111415Z
UID:2766-1701601200-1701630000@poolsharks-ortenberg.de
SUMMARY:9-Ball - LK-B - Senioren
DESCRIPTION:9-Ball – LK-B – Senioren
URL:https://poolsharks-ortenberg.de/event/9-ball-lk-b-senioren-2/
LOCATION:BV Schierstein Vereinsheim\, Wiesbadener Landstraße 16\, Wiesbaden-Amöneburg\, Hessen\, 65203\, Deutschland
CATEGORIES:LK-B
ATTACH;FMTTYPE=image/png:https://poolsharks-ortenberg.de/wp-content/uploads/2022/09/HPBV_LK-B_9-Ball_1280x640.png
ORGANIZER;CN="HPBV e.V.":MAILTO:info@hpbv.de
END:VEVENT
BEGIN:VEVENT
DTSTART;TZID=Europe/Berlin:20231202T110000
DTEND;TZID=Europe/Berlin:20231202T190000
DTSTAMP:20260421T184424
CREATED:20230825T111238Z
LAST-MODIFIED:20230825T111238Z
UID:2765-1701514800-1701543600@poolsharks-ortenberg.de
SUMMARY:2. Hessencup Jugend Pool
DESCRIPTION:2. Hessencup Jugend Pool
URL:https://poolsharks-ortenberg.de/event/2-hessencup-jugend-pool/
LOCATION:City-Billard Wiesbaden\, Dotzheimer Str. 27\, Wiesbaden\, Hessen\, 65185\, Germany
CATEGORIES:Hessencup
ORGANIZER;CN="HPBV e.V.":MAILTO:info@hpbv.de
END:VEVENT
BEGIN:VEVENT
DTSTART;TZID=Europe/Berlin:20231126T110000
DTEND;TZID=Europe/Berlin:20231126T190000
DTSTAMP:20260421T184424
CREATED:20230825T111132Z
LAST-MODIFIED:20230825T111132Z
UID:2762-1700996400-1701025200@poolsharks-ortenberg.de
SUMMARY:8-Ball - LK-B - Senioren
DESCRIPTION:8-Ball – LK-B – Senioren
URL:https://poolsharks-ortenberg.de/event/8-ball-lk-b-senioren-2/
LOCATION:BV Mörfelden-Walldorf Vereinsheim\, Am Berg 36\, Mörfelden-Walldorf\, Hessen\, 64546\, Deutschland
CATEGORIES:LK-B
ATTACH;FMTTYPE=image/png:https://poolsharks-ortenberg.de/wp-content/uploads/2022/09/HPBV_LK-B_8-Ball_1280x640.png
ORGANIZER;CN="HPBV e.V.":MAILTO:info@hpbv.de
END:VEVENT
BEGIN:VEVENT
DTSTART;TZID=Europe/Berlin:20231126T110000
DTEND;TZID=Europe/Berlin:20231126T190000
DTSTAMP:20260421T184424
CREATED:20230825T111114Z
LAST-MODIFIED:20230825T111114Z
UID:2763-1700996400-1701025200@poolsharks-ortenberg.de
SUMMARY:8-Ball - LK-B - Herren (Bad Wildungen)
DESCRIPTION:8-Ball – LK-B – Herren (Bad Wildungen)
URL:https://poolsharks-ortenberg.de/event/8-ball-lk-b-herren-bad-wildungen/
LOCATION:1. PBC Bad Wildungen Vereinsheim\, Zum Roten Berg 4\, Bad Wildungen\, Hessen\, 34537\, Deutschland
CATEGORIES:LK-B
ATTACH;FMTTYPE=image/png:https://poolsharks-ortenberg.de/wp-content/uploads/2022/09/HPBV_LK-B_8-Ball_1280x640.png
ORGANIZER;CN="HPBV e.V.":MAILTO:info@hpbv.de
END:VEVENT
BEGIN:VEVENT
DTSTART;TZID=Europe/Berlin:20231126T110000
DTEND;TZID=Europe/Berlin:20231126T190000
DTSTAMP:20260421T184424
CREATED:20230825T111031Z
LAST-MODIFIED:20230825T111031Z
UID:2764-1700996400-1701025200@poolsharks-ortenberg.de
SUMMARY:8-Ball - LK-B - Herren (Gelnhausen)
DESCRIPTION:8-Ball – LK-B – Herren (Gelnhausen)
URL:https://poolsharks-ortenberg.de/event/8-ball-lk-b-herren-gelnhausen/
LOCATION:PBC Gelnhausen Vereinsheim\, Zum Wartturm 5\, Gelnhausen\, Hessen\, 63571\, Germany
CATEGORIES:LK-B
ATTACH;FMTTYPE=image/png:https://poolsharks-ortenberg.de/wp-content/uploads/2022/09/HPBV_LK-B_8-Ball_1280x640.png
ORGANIZER;CN="HPBV e.V.":MAILTO:info@hpbv.de
END:VEVENT
BEGIN:VEVENT
DTSTART;TZID=Europe/Berlin:20231125T160000
DTEND;TZID=Europe/Berlin:20231125T210000
DTSTAMP:20260421T184424
CREATED:20230820T195908Z
LAST-MODIFIED:20230820T195908Z
UID:2641-1700928000-1700946000@poolsharks-ortenberg.de
SUMMARY:SG Johannesberg 5 - PBC Pool Sharks Ortenberg 2
DESCRIPTION:Bezirksliga 5. Spt. – SG Johannesberg 5 – PBC Pool Sharks Ortenberg 2
URL:https://poolsharks-ortenberg.de/event/sg-johannesberg-5-pbc-pool-sharks-ortenberg-2/
LOCATION:Sportzentrum Johannesberg\, Agricolastr. 8\, Fulda-Johannesberg\, Hessen\, 36041\, Deutschland
CATEGORIES:Bezirksliga
ATTACH;FMTTYPE=image/png:https://poolsharks-ortenberg.de/wp-content/uploads/2022/09/HPBV_Bezirksliga_1280x640.png
ORGANIZER;CN="HPBV e.V.":MAILTO:info@hpbv.de
END:VEVENT
BEGIN:VEVENT
DTSTART;TZID=Europe/Berlin:20231125T110000
DTEND;TZID=Europe/Berlin:20231125T160000
DTSTAMP:20260421T184424
CREATED:20230820T201459Z
LAST-MODIFIED:20230820T201459Z
UID:2656-1700910000-1700928000@poolsharks-ortenberg.de
SUMMARY:PBC Pool Sharks Ortenberg 1 - PBC Gelnhausen 1
DESCRIPTION:Oberliga 5. Spt. – PBC Pool Sharks Ortenberg 1 – PBC Gelnhausen 1
URL:https://poolsharks-ortenberg.de/event/pbc-pool-sharks-ortenberg-1-pbc-gelnhausen-1/
LOCATION:Vereinsheim Poolsharks Ortenberg\, Neue Straße 2\, Ortenberg - Gelnhaar\, Hessen\, 63683\, Deutschland
CATEGORIES:Oberliga
ATTACH;FMTTYPE=image/png:https://poolsharks-ortenberg.de/wp-content/uploads/2022/09/HPBV_Oberliga_1280x640.png
ORGANIZER;CN="HPBV e.V.":MAILTO:info@hpbv.de
END:VEVENT
BEGIN:VEVENT
DTSTART;TZID=Europe/Berlin:20231022T110000
DTEND;TZID=Europe/Berlin:20231022T190000
DTSTAMP:20260421T184424
CREATED:20230825T110853Z
LAST-MODIFIED:20230825T110853Z
UID:2757-1697972400-1698001200@poolsharks-ortenberg.de
SUMMARY:14.1 - LK-C - Herren (Eberstadt)
DESCRIPTION:14.1 – LK-C – Herren (Eberstadt)
URL:https://poolsharks-ortenberg.de/event/14-1-lk-c-herren-eberstadt/
LOCATION:Billard Pallace Dieburg\, Markt 22\, Eberstadt\, Hessen\, 64807\, Deutschland
CATEGORIES:LK-C
ATTACH;FMTTYPE=image/png:https://poolsharks-ortenberg.de/wp-content/uploads/2022/09/HPBV_LK-C_14.1e_1280x640.png
ORGANIZER;CN="HPBV e.V.":MAILTO:info@hpbv.de
END:VEVENT
BEGIN:VEVENT
DTSTART;TZID=Europe/Berlin:20231022T110000
DTEND;TZID=Europe/Berlin:20231022T190000
DTSTAMP:20260421T184424
CREATED:20230825T110829Z
LAST-MODIFIED:20230825T110829Z
UID:2760-1697972400-1698001200@poolsharks-ortenberg.de
SUMMARY:14.1 - LK-C - Herren (Kahl)
DESCRIPTION:14.1 – LK-C – Herren (Kahl)
URL:https://poolsharks-ortenberg.de/event/14-1-lk-c-herren-kahl/
LOCATION:BV Kahl Vereinsheim\, Hanauerlandstraße 105\, Kahl a. Main\, Hessen\, 63796\, Germany
CATEGORIES:LK-C
ATTACH;FMTTYPE=image/png:https://poolsharks-ortenberg.de/wp-content/uploads/2022/09/HPBV_LK-C_14.1e_1280x640.png
ORGANIZER;CN="HPBV e.V.":MAILTO:info@hpbv.de
END:VEVENT
BEGIN:VEVENT
DTSTART;TZID=Europe/Berlin:20231022T110000
DTEND;TZID=Europe/Berlin:20231022T190000
DTSTAMP:20260421T184424
CREATED:20230825T110758Z
LAST-MODIFIED:20230825T110758Z
UID:2761-1697972400-1698001200@poolsharks-ortenberg.de
SUMMARY:14.1 - LK-C - Senioren
DESCRIPTION:14.1 – LK-C – Senioren
URL:https://poolsharks-ortenberg.de/event/14-1-lk-c-senioren-2/
LOCATION:PBC Dreieich-Sprendlingen Vereinsheim\, Eisenbahnstraße 102\, Dreieich-Sprendlingen\, Hessen\, 63303\, Germany
CATEGORIES:LK-C
ATTACH;FMTTYPE=image/png:https://poolsharks-ortenberg.de/wp-content/uploads/2022/09/HPBV_LK-C_14.1e_1280x640.png
ORGANIZER;CN="HPBV e.V.":MAILTO:info@hpbv.de
END:VEVENT
BEGIN:VEVENT
DTSTART;TZID=Europe/Berlin:20231022T110000
DTEND;TZID=Europe/Berlin:20231022T190000
DTSTAMP:20260421T184424
CREATED:20230825T110721Z
LAST-MODIFIED:20230825T110721Z
UID:2758-1697972400-1698001200@poolsharks-ortenberg.de
SUMMARY:14.1 - LK-C - Herren (Wiesbaden)
DESCRIPTION:14.1 – LK-C – Herren (Wiesbaden)
URL:https://poolsharks-ortenberg.de/event/14-1-lk-c-herren-wiesbaden/
LOCATION:City-Billard Wiesbaden\, Dotzheimer Str. 27\, Wiesbaden\, Hessen\, 65185\, Germany
CATEGORIES:LK-C
ATTACH;FMTTYPE=image/png:https://poolsharks-ortenberg.de/wp-content/uploads/2022/09/HPBV_LK-C_14.1e_1280x640.png
ORGANIZER;CN="HPBV e.V.":MAILTO:info@hpbv.de
END:VEVENT
BEGIN:VEVENT
DTSTART;TZID=Europe/Berlin:20231022T110000
DTEND;TZID=Europe/Berlin:20231022T190000
DTSTAMP:20260421T184424
CREATED:20230825T110657Z
LAST-MODIFIED:20230825T110657Z
UID:2759-1697972400-1698001200@poolsharks-ortenberg.de
SUMMARY:14.1 - LK-C - Herren (Bad Wildungen)
DESCRIPTION:14.1 – LK-C – Herren (Bad Wildungen)
URL:https://poolsharks-ortenberg.de/event/14-1-lk-c-herren-bad-wildungen/
LOCATION:1. PBC Bad Wildungen Vereinsheim\, Zum Roten Berg 4\, Bad Wildungen\, Hessen\, 34537\, Deutschland
CATEGORIES:LK-C
ATTACH;FMTTYPE=image/png:https://poolsharks-ortenberg.de/wp-content/uploads/2022/09/HPBV_LK-C_14.1e_1280x640.png
ORGANIZER;CN="HPBV e.V.":MAILTO:info@hpbv.de
END:VEVENT
BEGIN:VEVENT
DTSTART;TZID=Europe/Berlin:20231021T160000
DTEND;TZID=Europe/Berlin:20231021T210000
DTSTAMP:20260421T184424
CREATED:20230804T132656Z
LAST-MODIFIED:20230928T222330Z
UID:2639-1697904000-1697922000@poolsharks-ortenberg.de
SUMMARY:PBC Pool Sharks Ortenberg 2 - SG Johannesberg 4
DESCRIPTION:Bezirksliga 2. Spt. – PBC Pool Sharks Ortenberg 2 – SG Johannesberg 4 \nAuf Anfrage von Johannesberg vom 30.09. verlegt auf 21.10.
URL:https://poolsharks-ortenberg.de/event/pbc-pool-sharks-ortenberg-2-sg-johannesberg-4/
LOCATION:Vereinsheim Poolsharks Ortenberg\, Neue Straße 2\, Ortenberg - Gelnhaar\, Hessen\, 63683\, Deutschland
CATEGORIES:Bezirksliga
ATTACH;FMTTYPE=image/png:https://poolsharks-ortenberg.de/wp-content/uploads/2022/09/HPBV_Bezirksliga_1280x640.png
ORGANIZER;CN="HPBV e.V.":MAILTO:info@hpbv.de
END:VEVENT
BEGIN:VEVENT
DTSTART;TZID=Europe/Berlin:20231021T110000
DTEND;TZID=Europe/Berlin:20231021T160000
DTSTAMP:20260421T184424
CREATED:20230820T201332Z
LAST-MODIFIED:20230820T201332Z
UID:2655-1697886000-1697904000@poolsharks-ortenberg.de
SUMMARY:BC Wiesbaden 2000 e.V. 1 - PBC Pool Sharks Ortenberg 1
DESCRIPTION:Oberliga 4. Spt. – BC Wiesbaden 2000 e.V. 1 – PBC Pool Sharks Ortenberg 1
URL:https://poolsharks-ortenberg.de/event/bc-wiesbaden-2000-e-v-1-pbc-pool-sharks-ortenberg-1/
LOCATION:City-Billard Wiesbaden\, Dotzheimer Str. 27\, Wiesbaden\, Hessen\, 65185\, Germany
CATEGORIES:Oberliga
ATTACH;FMTTYPE=image/png:https://poolsharks-ortenberg.de/wp-content/uploads/2022/09/HPBV_Oberliga_1280x640.png
ORGANIZER;CN="HPBV e.V.":MAILTO:info@hpbv.de
END:VEVENT
BEGIN:VEVENT
DTSTART;TZID=Europe/Berlin:20231014T160000
DTEND;TZID=Europe/Berlin:20231014T210000
DTSTAMP:20260421T184424
CREATED:20230820T195723Z
LAST-MODIFIED:20230820T195723Z
UID:2640-1697299200-1697317200@poolsharks-ortenberg.de
SUMMARY:PBC Pool Sharks Ortenberg 2 - 1. PBC Giessen 1986 e.V. 4
DESCRIPTION:Bezirksliga 3. Spt. – PBC Pool Sharks Ortenberg 2 – 1. PBC Giessen 1986 e.V. 4
URL:https://poolsharks-ortenberg.de/event/pbc-pool-sharks-ortenberg-2-1-pbc-giessen-1986-e-v-4/
LOCATION:Vereinsheim Poolsharks Ortenberg\, Neue Straße 2\, Ortenberg - Gelnhaar\, Hessen\, 63683\, Deutschland
CATEGORIES:Bezirksliga
ATTACH;FMTTYPE=image/png:https://poolsharks-ortenberg.de/wp-content/uploads/2022/09/HPBV_Bezirksliga_1280x640.png
ORGANIZER;CN="HPBV e.V.":MAILTO:info@hpbv.de
END:VEVENT
BEGIN:VEVENT
DTSTART;TZID=Europe/Berlin:20231014T110000
DTEND;TZID=Europe/Berlin:20231014T160000
DTSTAMP:20260421T184424
CREATED:20230820T201048Z
LAST-MODIFIED:20230820T201048Z
UID:2654-1697281200-1697299200@poolsharks-ortenberg.de
SUMMARY:PBC Pool Sharks Ortenberg 1 - Billardverein Kahl a. Main e.V. 1
DESCRIPTION:Oberliga 3. Spt. – PBC Pool Sharks Ortenberg 1 – Billardverein Kahl a. Main e.V. 1
URL:https://poolsharks-ortenberg.de/event/pbc-pool-sharks-ortenberg-1-billardverein-kahl-a-main-e-v-1/
LOCATION:Vereinsheim Poolsharks Ortenberg\, Neue Straße 2\, Ortenberg - Gelnhaar\, Hessen\, 63683\, Deutschland
CATEGORIES:Oberliga
ATTACH;FMTTYPE=image/png:https://poolsharks-ortenberg.de/wp-content/uploads/2022/09/HPBV_Oberliga_1280x640.png
ORGANIZER;CN="HPBV e.V.":MAILTO:info@hpbv.de
END:VEVENT
END:VCALENDAR